BEGIN:VCALENDAR
VERSION:2.0
PRODID:-//North Halton Hospice - ECPv6.15.20//NONSGML v1.0//EN
CALSCALE:GREGORIAN
METHOD:PUBLISH
X-WR-CALNAME:North Halton Hospice
X-ORIGINAL-URL:https://northhaltonhospice.ca
X-WR-CALDESC:Events for North Halton Hospice
REFRESH-INTERVAL;VALUE=DURATION:PT1H
X-Robots-Tag:noindex
X-PUBLISHED-TTL:PT1H
BEGIN:VTIMEZONE
TZID:America/Toronto
BEGIN:DAYLIGHT
TZOFFSETFROM:-0500
TZOFFSETTO:-0400
TZNAME:EDT
DTSTART:20220313T070000
END:DAYLIGHT
BEGIN:STANDARD
TZOFFSETFROM:-0400
TZOFFSETTO:-0500
TZNAME:EST
DTSTART:20221106T060000
END:STANDARD
BEGIN:DAYLIGHT
TZOFFSETFROM:-0500
TZOFFSETTO:-0400
TZNAME:EDT
DTSTART:20230312T070000
END:DAYLIGHT
BEGIN:STANDARD
TZOFFSETFROM:-0400
TZOFFSETTO:-0500
TZNAME:EST
DTSTART:20231105T060000
END:STANDARD
BEGIN:DAYLIGHT
TZOFFSETFROM:-0500
TZOFFSETTO:-0400
TZNAME:EDT
DTSTART:20240310T070000
END:DAYLIGHT
BEGIN:STANDARD
TZOFFSETFROM:-0400
TZOFFSETTO:-0500
TZNAME:EST
DTSTART:20241103T060000
END:STANDARD
END:VTIMEZONE
BEGIN:VEVENT
DTSTART;TZID=America/Toronto:20230325T190000
DTEND;TZID=America/Toronto:20230325T230000
DTSTAMP:20260423T082945
CREATED:20230211T204803Z
LAST-MODIFIED:20230211T205243Z
UID:10000102-1679770800-1679785200@northhaltonhospice.ca
SUMMARY:The Beatles & Friends - A Fundraiser for TSF
DESCRIPTION:Acton Rotary Club and Georgetown Choral Society present an evening of lively Beatles and ABBA tunes to raise funds for the Townsend Smith Foundation being built in North Halton. Cash bar\, nibbles and incredible silent auction tables! Wear your FAB gear! \nDate: March 25\, 2023\nTime: 7:00pm to 11:00pm\nLocation: Heritage Acton Town Hall\, 19 Willow Street North\, Acton.\nTickets: $30.00 [Advance Tickets Only] \nBUT TICKETS TODAY
URL:https://northhaltonhospice.ca/event/the-beatles-friends-a-fundraiser-for-tsf/
CATEGORIES:Event
ATTACH;FMTTYPE=image/jpeg:https://northhaltonhospice.ca/wp-content/uploads/2023/02/beatles2.jpg
END:VEVENT
END:VCALENDAR