BEGIN:VCALENDAR
VERSION:2.0
PRODID:-//North Halton Hospice - ECPv6.15.20//NONSGML v1.0//EN
CALSCALE:GREGORIAN
METHOD:PUBLISH
X-WR-CALNAME:North Halton Hospice
X-ORIGINAL-URL:https://northhaltonhospice.ca
X-WR-CALDESC:Events for North Halton Hospice
REFRESH-INTERVAL;VALUE=DURATION:PT1H
X-Robots-Tag:noindex
X-PUBLISHED-TTL:PT1H
BEGIN:VTIMEZONE
TZID:America/Toronto
BEGIN:DAYLIGHT
TZOFFSETFROM:-0500
TZOFFSETTO:-0400
TZNAME:EDT
DTSTART:20220313T070000
END:DAYLIGHT
BEGIN:STANDARD
TZOFFSETFROM:-0400
TZOFFSETTO:-0500
TZNAME:EST
DTSTART:20221106T060000
END:STANDARD
BEGIN:DAYLIGHT
TZOFFSETFROM:-0500
TZOFFSETTO:-0400
TZNAME:EDT
DTSTART:20230312T070000
END:DAYLIGHT
BEGIN:STANDARD
TZOFFSETFROM:-0400
TZOFFSETTO:-0500
TZNAME:EST
DTSTART:20231105T060000
END:STANDARD
BEGIN:DAYLIGHT
TZOFFSETFROM:-0500
TZOFFSETTO:-0400
TZNAME:EDT
DTSTART:20240310T070000
END:DAYLIGHT
BEGIN:STANDARD
TZOFFSETFROM:-0400
TZOFFSETTO:-0500
TZNAME:EST
DTSTART:20241103T060000
END:STANDARD
END:VTIMEZONE
BEGIN:VEVENT
DTSTART;TZID=America/Toronto:20230422T183000
DTEND;TZID=America/Toronto:20230422T183000
DTSTAMP:20260423T064336
CREATED:20230129T035017Z
LAST-MODIFIED:20230224T004436Z
UID:10000099-1682188200-1682188200@northhaltonhospice.ca
SUMMARY:7th Annual Milton Rotary Denim & Diamonds Spring Gala
DESCRIPTION:Guests\, Rotarians\, family and friends will enjoy food and fun in support of a great cause at The Grand Chalet (Grande Room) on the night of Saturday\, April 22\, 2023. Net proceeds go to worthy local causes supported directly by Milton Rotary: MDHF and Townsend Smith Foundation.⁠\n⁠\nEARLY-BIRD tickets are $120 each. Buy a table of eight seats and SAVE $$$! Early-Bird Tables are priced at $950 (save $10). Early-bird cut off is March 25th.⁠ \nBUY TICKETS NOW
URL:https://northhaltonhospice.ca/event/7th-annual-milton-rotary-denim-diamonds-spring-gala/
CATEGORIES:Event
ATTACH;FMTTYPE=image/jpeg:https://northhaltonhospice.ca/wp-content/uploads/2023/01/Events-Callouts-1.jpg
END:VEVENT
END:VCALENDAR