BEGIN:VCALENDAR
VERSION:2.0
PRODID:-//North Halton Hospice - ECPv6.15.20//NONSGML v1.0//EN
CALSCALE:GREGORIAN
METHOD:PUBLISH
X-ORIGINAL-URL:https://northhaltonhospice.ca
X-WR-CALDESC:Events for North Halton Hospice
REFRESH-INTERVAL;VALUE=DURATION:PT1H
X-Robots-Tag:noindex
X-PUBLISHED-TTL:PT1H
BEGIN:VTIMEZONE
TZID:America/Toronto
BEGIN:DAYLIGHT
TZOFFSETFROM:-0500
TZOFFSETTO:-0400
TZNAME:EDT
DTSTART:20230312T070000
END:DAYLIGHT
BEGIN:STANDARD
TZOFFSETFROM:-0400
TZOFFSETTO:-0500
TZNAME:EST
DTSTART:20231105T060000
END:STANDARD
BEGIN:DAYLIGHT
TZOFFSETFROM:-0500
TZOFFSETTO:-0400
TZNAME:EDT
DTSTART:20240310T070000
END:DAYLIGHT
BEGIN:STANDARD
TZOFFSETFROM:-0400
TZOFFSETTO:-0500
TZNAME:EST
DTSTART:20241103T060000
END:STANDARD
BEGIN:DAYLIGHT
TZOFFSETFROM:-0500
TZOFFSETTO:-0400
TZNAME:EDT
DTSTART:20250309T070000
END:DAYLIGHT
BEGIN:STANDARD
TZOFFSETFROM:-0400
TZOFFSETTO:-0500
TZNAME:EST
DTSTART:20251102T060000
END:STANDARD
END:VTIMEZONE
BEGIN:VEVENT
DTSTART;TZID=America/Toronto:20240126T193000
DTEND;TZID=America/Toronto:20240126T193000
DTSTAMP:20260422T163505
CREATED:20240109T171639Z
LAST-MODIFIED:20240109T171753Z
UID:10000128-1706297400-1706297400@northhaltonhospice.ca
SUMMARY:Every Other Friday Local Showcase Series
DESCRIPTION:Mark your calendars – the first event of 2024 in The Sanctuary Concert Hall is coming up Friday\, January 26th when local cover band\, “Every Other Friday” will play your favourite Eagles\, Neil Young\, Fleetwood Mac\, Doobie Bros. tunes and many more in a coffee house setting sure to have a party vibe. \nA portion of the proceeds will go to The Townsend Smith Foundation to support building a hospice in North Halton. \nDoors open at 6:45pm\, show begins at 7:30pm. \nBUY TICKETS NOW
URL:https://northhaltonhospice.ca/event/every-other-friday-local-showcase-series/
CATEGORIES:Event
ATTACH;FMTTYPE=image/jpeg:https://northhaltonhospice.ca/wp-content/uploads/2024/01/band.jpg
END:VEVENT
END:VCALENDAR