BEGIN:VCALENDAR
VERSION:2.0
PRODID:-//North Halton Hospice - ECPv6.15.20//NONSGML v1.0//EN
CALSCALE:GREGORIAN
METHOD:PUBLISH
X-WR-CALNAME:North Halton Hospice
X-ORIGINAL-URL:https://northhaltonhospice.ca
X-WR-CALDESC:Events for North Halton Hospice
REFRESH-INTERVAL;VALUE=DURATION:PT1H
X-Robots-Tag:noindex
X-PUBLISHED-TTL:PT1H
BEGIN:VTIMEZONE
TZID:America/Toronto
BEGIN:DAYLIGHT
TZOFFSETFROM:-0500
TZOFFSETTO:-0400
TZNAME:EDT
DTSTART:20230312T070000
END:DAYLIGHT
BEGIN:STANDARD
TZOFFSETFROM:-0400
TZOFFSETTO:-0500
TZNAME:EST
DTSTART:20231105T060000
END:STANDARD
BEGIN:DAYLIGHT
TZOFFSETFROM:-0500
TZOFFSETTO:-0400
TZNAME:EDT
DTSTART:20240310T070000
END:DAYLIGHT
BEGIN:STANDARD
TZOFFSETFROM:-0400
TZOFFSETTO:-0500
TZNAME:EST
DTSTART:20241103T060000
END:STANDARD
BEGIN:DAYLIGHT
TZOFFSETFROM:-0500
TZOFFSETTO:-0400
TZNAME:EDT
DTSTART:20250309T070000
END:DAYLIGHT
BEGIN:STANDARD
TZOFFSETFROM:-0400
TZOFFSETTO:-0500
TZNAME:EST
DTSTART:20251102T060000
END:STANDARD
END:VTIMEZONE
BEGIN:VEVENT
DTSTART;TZID=America/Toronto:20240608T080000
DTEND;TZID=America/Toronto:20240608T120000
DTSTAMP:20260422T073611
CREATED:20240513T155148Z
LAST-MODIFIED:20240513T155610Z
UID:10000138-1717833600-1717848000@northhaltonhospice.ca
SUMMARY:Milton Farmers Market
DESCRIPTION:Visit us at the Milton Farmers Market at 194 Main St E\, Milton\, from 8:00am to 12:00pm. Let’s talk about how we are working to build a hospice for North Halton and how you can help make this happen.
URL:https://northhaltonhospice.ca/event/milton-farmers-market/
CATEGORIES:Event
ATTACH;FMTTYPE=image/png:https://northhaltonhospice.ca/wp-content/uploads/2024/05/Events-Callouts-1.png
END:VEVENT
BEGIN:VEVENT
DTSTART;TZID=America/Toronto:20240615T180000
DTEND;TZID=America/Toronto:20240615T180000
DTSTAMP:20260422T073611
CREATED:20240229T182402Z
LAST-MODIFIED:20240409T141517Z
UID:10000132-1718474400-1718474400@northhaltonhospice.ca
SUMMARY:Hospice Masquerade
DESCRIPTION:Come join us on Saturday June 15th at 6:00PM for a night of elegance and giving at the 2024 Hospice Ball at The Club at North Halton! \nThis amazing event promises to be a memorable evening filled with delicious food\, live music\, and both live and silent auctions. Come support Townsend Smith Foundation while enjoying a fantastic time with friends and community members. \nCost: $165. Price includes a masquerade mask. \nBuy Tickets
URL:https://northhaltonhospice.ca/event/hospice-masquerade/
CATEGORIES:Event
ATTACH;FMTTYPE=image/jpeg:https://northhaltonhospice.ca/wp-content/uploads/2024/02/EventBanner_Website_1920x706.jpg
END:VEVENT
BEGIN:VEVENT
DTSTART;TZID=America/Toronto:20240622T080000
DTEND;TZID=America/Toronto:20240622T120000
DTSTAMP:20260422T073611
CREATED:20240513T155537Z
LAST-MODIFIED:20240513T155537Z
UID:10000139-1719043200-1719057600@northhaltonhospice.ca
SUMMARY:Georgetown Farmers Market
DESCRIPTION:Visit us at the Georgetown Farmers Market at 66 Main St S\, Georgetown\, from 8:00am to 12:00pm. Let’s talk about how we are working to build a hospice for North Halton and how you can help make this happen.
URL:https://northhaltonhospice.ca/event/georgetown-farmers-market/
CATEGORIES:Event
ATTACH;FMTTYPE=image/jpeg:https://northhaltonhospice.ca/wp-content/uploads/2024/05/10-1.jpg
END:VEVENT
BEGIN:VEVENT
DTSTART;TZID=America/Toronto:20240624T090000
DTEND;TZID=America/Toronto:20240624T090000
DTSTAMP:20260422T073611
CREATED:20240507T222255Z
LAST-MODIFIED:20240507T222457Z
UID:10000137-1719219600-1719219600@northhaltonhospice.ca
SUMMARY:Meadowtowne Charity Golf Tournament for Hospice
DESCRIPTION:Swing into action for a cause that truly matters! Join us at the Meadowtowne Charity Golf Tournament for Hospice\, supporting the Townsend Smith Foundation on June 24\, 2024 at The Club at North Halton. Gather your dream team for a day of friendly competition and making a meaningful impact in our community. \nCan’t make it to the greens? You can still be a part of this incredible event by becoming a sponsor! Your support will help TSF build North Halton’s first hospice residence. \nLet’s tee up for a day of compassion and camaraderie! Register your foursome or select a sponsorship level today. Together\, we will build a hospice. \nRegister Now or Become A Sponsor
URL:https://northhaltonhospice.ca/event/meadowtowne-charity-golf-tournament-for-hospice/
LOCATION:The Club at North Halton\, 363 Maple Avenue\, Georgetown\, Ontario
CATEGORIES:Event
ATTACH;FMTTYPE=image/jpeg:https://northhaltonhospice.ca/wp-content/uploads/2024/05/Events-Callouts-2.jpg
END:VEVENT
END:VCALENDAR