BEGIN:VCALENDAR
VERSION:2.0
PRODID:-//North Halton Hospice - ECPv6.15.20//NONSGML v1.0//EN
CALSCALE:GREGORIAN
METHOD:PUBLISH
X-WR-CALNAME:North Halton Hospice
X-ORIGINAL-URL:https://northhaltonhospice.ca
X-WR-CALDESC:Events for North Halton Hospice
REFRESH-INTERVAL;VALUE=DURATION:PT1H
X-Robots-Tag:noindex
X-PUBLISHED-TTL:PT1H
BEGIN:VTIMEZONE
TZID:America/Toronto
BEGIN:DAYLIGHT
TZOFFSETFROM:-0500
TZOFFSETTO:-0400
TZNAME:EDT
DTSTART:20230312T070000
END:DAYLIGHT
BEGIN:STANDARD
TZOFFSETFROM:-0400
TZOFFSETTO:-0500
TZNAME:EST
DTSTART:20231105T060000
END:STANDARD
BEGIN:DAYLIGHT
TZOFFSETFROM:-0500
TZOFFSETTO:-0400
TZNAME:EDT
DTSTART:20240310T070000
END:DAYLIGHT
BEGIN:STANDARD
TZOFFSETFROM:-0400
TZOFFSETTO:-0500
TZNAME:EST
DTSTART:20241103T060000
END:STANDARD
BEGIN:DAYLIGHT
TZOFFSETFROM:-0500
TZOFFSETTO:-0400
TZNAME:EDT
DTSTART:20250309T070000
END:DAYLIGHT
BEGIN:STANDARD
TZOFFSETFROM:-0400
TZOFFSETTO:-0500
TZNAME:EST
DTSTART:20251102T060000
END:STANDARD
END:VTIMEZONE
BEGIN:VEVENT
DTSTART;TZID=America/Toronto:20240914T110000
DTEND;TZID=America/Toronto:20240914T180000
DTSTAMP:20260422T021009
CREATED:20240908T141709Z
LAST-MODIFIED:20240908T141709Z
UID:10000147-1726311600-1726336800@northhaltonhospice.ca
SUMMARY:Head for the Hills Craft Beverage Festival
DESCRIPTION:A day of sampling Ontario craft beverages\, gourmet food\, games and live music. 100% of proceeds go to local charities. \nBUY TICKETS
URL:https://northhaltonhospice.ca/event/head-for-the-hills-craft-beverage-festival-2/
CATEGORIES:Event
ATTACH;FMTTYPE=image/jpeg:https://northhaltonhospice.ca/wp-content/uploads/2024/09/Events-Callouts-1-1.jpg
END:VEVENT
BEGIN:VEVENT
DTSTART;TZID=America/Toronto:20240914T160000
DTEND;TZID=America/Toronto:20240914T210000
DTSTAMP:20260422T021009
CREATED:20240908T141211Z
LAST-MODIFIED:20240908T141211Z
UID:10000146-1726329600-1726347600@northhaltonhospice.ca
SUMMARY:Car Show in Downtown Milton
DESCRIPTION:Be part of Milton’s biggest car night! Classic and modern cars\, live entertainment and family fun with Townsend Smith Foundation (TSF) being the Charity Partner. \nVIEW DETAILS
URL:https://northhaltonhospice.ca/event/car-show-in-downtown-milton/
CATEGORIES:Event
ATTACH;FMTTYPE=image/jpeg:https://northhaltonhospice.ca/wp-content/uploads/2024/09/Events-Callouts-2.jpg
END:VEVENT
BEGIN:VEVENT
DTSTART;TZID=America/Toronto:20240928T090000
DTEND;TZID=America/Toronto:20240928T120000
DTSTAMP:20260422T021009
CREATED:20240515T192930Z
LAST-MODIFIED:20240918T202355Z
UID:10000141-1727514000-1727524800@northhaltonhospice.ca
SUMMARY:Community Foundation of Halton North Webathon Giving Challenge
DESCRIPTION:CFHN’s 4th annual Webathon will be held on Saturday September 28\, 2024! Townsend Smith Foundation will be one of the participating charities and we would love for you to get to know us! \nCFHN Webathon 2024 will run from 9:00 AM to 12:00 PM streaming recorded content and with physical presence at the Milton Farmers’ Market and at the CFHN office. If you’re looking for ways to make an impact in your community\, we’d love for you to join us on the event and support TSF. \nREGISTER NOW
URL:https://northhaltonhospice.ca/event/cfhn-4th-annual-webathon/
CATEGORIES:Event
ATTACH;FMTTYPE=image/jpeg:https://northhaltonhospice.ca/wp-content/uploads/2024/05/Events-Callouts.jpg
END:VEVENT
END:VCALENDAR