BEGIN:VCALENDAR
VERSION:2.0
PRODID:-//North Halton Hospice - ECPv6.15.20//NONSGML v1.0//EN
CALSCALE:GREGORIAN
METHOD:PUBLISH
X-WR-CALNAME:North Halton Hospice
X-ORIGINAL-URL:https://northhaltonhospice.ca
X-WR-CALDESC:Events for North Halton Hospice
REFRESH-INTERVAL;VALUE=DURATION:PT1H
X-Robots-Tag:noindex
X-PUBLISHED-TTL:PT1H
BEGIN:VTIMEZONE
TZID:America/Toronto
BEGIN:DAYLIGHT
TZOFFSETFROM:-0500
TZOFFSETTO:-0400
TZNAME:EDT
DTSTART:20240310T070000
END:DAYLIGHT
BEGIN:STANDARD
TZOFFSETFROM:-0400
TZOFFSETTO:-0500
TZNAME:EST
DTSTART:20241103T060000
END:STANDARD
BEGIN:DAYLIGHT
TZOFFSETFROM:-0500
TZOFFSETTO:-0400
TZNAME:EDT
DTSTART:20250309T070000
END:DAYLIGHT
BEGIN:STANDARD
TZOFFSETFROM:-0400
TZOFFSETTO:-0500
TZNAME:EST
DTSTART:20251102T060000
END:STANDARD
BEGIN:DAYLIGHT
TZOFFSETFROM:-0500
TZOFFSETTO:-0400
TZNAME:EDT
DTSTART:20260308T070000
END:DAYLIGHT
BEGIN:STANDARD
TZOFFSETFROM:-0400
TZOFFSETTO:-0500
TZNAME:EST
DTSTART:20261101T060000
END:STANDARD
END:VTIMEZONE
BEGIN:VEVENT
DTSTART;TZID=America/Toronto:20250215T180000
DTEND;TZID=America/Toronto:20250215T180000
DTSTAMP:20260421T165259
CREATED:20241125T164754Z
LAST-MODIFIED:20241125T164952Z
UID:10000156-1739642400-1739642400@northhaltonhospice.ca
SUMMARY:Knights of Columbus 2025 Valentine’s Gala
DESCRIPTION:Dinner & Dance\n\n4-Course Dinner with Table Service\nAntipasto Buffet\nDinner Wine\nCash Bar\nSilent Auction\nRaffles\nLive DJ & Dancing\n\nLocation\nGranite Ridge Golf Club\, 9503 Dublin Line\, Milton\, ON L9T 2X7 \nEvent Details & Ticket Sales\nPurchase Tickets
URL:https://northhaltonhospice.ca/event/knights-of-columbus-2025-valentines-gala/
LOCATION:Granite Ridge Golf Club\, 9503 Dublin Line\, Milton\, Canada
CATEGORIES:Event
ATTACH;FMTTYPE=image/jpeg:https://northhaltonhospice.ca/wp-content/uploads/2024/11/Events-Callouts-1.jpg
END:VEVENT
END:VCALENDAR