BEGIN:VCALENDAR
VERSION:2.0
PRODID:-//North Halton Hospice - ECPv6.15.20//NONSGML v1.0//EN
CALSCALE:GREGORIAN
METHOD:PUBLISH
X-ORIGINAL-URL:https://northhaltonhospice.ca
X-WR-CALDESC:Events for North Halton Hospice
REFRESH-INTERVAL;VALUE=DURATION:PT1H
X-Robots-Tag:noindex
X-PUBLISHED-TTL:PT1H
BEGIN:VTIMEZONE
TZID:America/Toronto
BEGIN:DAYLIGHT
TZOFFSETFROM:-0500
TZOFFSETTO:-0400
TZNAME:EDT
DTSTART:20240310T070000
END:DAYLIGHT
BEGIN:STANDARD
TZOFFSETFROM:-0400
TZOFFSETTO:-0500
TZNAME:EST
DTSTART:20241103T060000
END:STANDARD
BEGIN:DAYLIGHT
TZOFFSETFROM:-0500
TZOFFSETTO:-0400
TZNAME:EDT
DTSTART:20250309T070000
END:DAYLIGHT
BEGIN:STANDARD
TZOFFSETFROM:-0400
TZOFFSETTO:-0500
TZNAME:EST
DTSTART:20251102T060000
END:STANDARD
BEGIN:DAYLIGHT
TZOFFSETFROM:-0500
TZOFFSETTO:-0400
TZNAME:EDT
DTSTART:20260308T070000
END:DAYLIGHT
BEGIN:STANDARD
TZOFFSETFROM:-0400
TZOFFSETTO:-0500
TZNAME:EST
DTSTART:20261101T060000
END:STANDARD
END:VTIMEZONE
BEGIN:VEVENT
DTSTART;TZID=America/Toronto:20250501T180000
DTEND;TZID=America/Toronto:20250501T210000
DTSTAMP:20260421T105857
CREATED:20250116T231258Z
LAST-MODIFIED:20250402T231015Z
UID:10000160-1746122400-1746133200@northhaltonhospice.ca
SUMMARY:CFHN Legacy Honours Evening
DESCRIPTION:Thursday May 1\, 2025 for CFHN Legacy Honours Evening. \nJoin The Hon. Lisa Raitt and the Community Foundation of Halton North to help bring a Hospice to North Halton. \nHonouring 2025 Transformational Leader and Hospice Champion\, Ken Hartwick\, President & CEO\, Ontario Power Generation. \nHosted by the Community Foundation of Halton North (CFHN) benefitting the Townsend Smith Foundation (TSF). \nPURCHASE TICKETS
URL:https://northhaltonhospice.ca/event/cfhn-legacy-honours-evening/
LOCATION:Granite Ridge Golf Club\, 9503 Dublin Line\, Milton\, Canada
CATEGORIES:Event
ATTACH;FMTTYPE=image/jpeg:https://northhaltonhospice.ca/wp-content/uploads/2025/01/Events-Callouts-1.jpg
END:VEVENT
BEGIN:VEVENT
DTSTART;TZID=America/Toronto:20250502T173000
DTEND;TZID=America/Toronto:20250502T173000
DTSTAMP:20260421T105857
CREATED:20250407T172131Z
LAST-MODIFIED:20250407T172131Z
UID:10000163-1746207000-1746207000@northhaltonhospice.ca
SUMMARY:The Spring Gala Tapas Dinner & Live Auction
DESCRIPTION:Our friends at the Rotary Club of Acton are hosting their SPRING GALA\, TAPAS DINNER AND LIVE AUCTION on Friday\, May 2nd. This is always a fun event and some of us already have our tickets. Proceeds are shared between Acton Rotary’s club projects and TSF. \nPURCHASE TICKETS
URL:https://northhaltonhospice.ca/event/the-spring-gala-tapas-dinner-live-auction/
CATEGORIES:Event
ATTACH;FMTTYPE=image/jpeg:https://northhaltonhospice.ca/wp-content/uploads/2025/04/springgala.jpg
END:VEVENT
BEGIN:VEVENT
DTSTART;VALUE=DATE:20250503
DTEND;VALUE=DATE:20250504
DTSTAMP:20260421T105857
CREATED:20250117T195223Z
LAST-MODIFIED:20250402T014114Z
UID:10000161-1746230400-1746316799@northhaltonhospice.ca
SUMMARY:Hike for Hospice 2025
DESCRIPTION:Join our next annual Hike for Hospice on Saturday May 3\, 2025. Register today to start fundraising. Every donation brings us closer to our goal. \nInterested in becoming a Sponsor? Click here for Sponsorship details.
URL:https://northhaltonhospice.ca/event/hike-for-hospice-2025/
CATEGORIES:Event
ATTACH;FMTTYPE=image/jpeg:https://northhaltonhospice.ca/wp-content/uploads/2025/01/Events-Callouts-2-1.jpg
END:VEVENT
BEGIN:VEVENT
DTSTART;TZID=America/Toronto:20250510T193000
DTEND;TZID=America/Toronto:20250510T223000
DTSTAMP:20260421T105857
CREATED:20250503T122828Z
LAST-MODIFIED:20250503T122828Z
UID:10000169-1746905400-1746916200@northhaltonhospice.ca
SUMMARY:TSCH presents\, Adi Braun - Night And Day\, The Cole Porter Songbook
DESCRIPTION:Jazz singer and co-host of “Classical Mornings” on The New Classical 96.3 FM\, Adi Braun returns to intimate setting of The Sanctuary Concert Hall (TSCH) to perform her most recent release\, Night And Day\, The Cole Porter Songbook.  Adi is no stranger to St. John’s and TSCH having performed in this space during the Inspiring Spaces Series a few years ago.   \nThe material on Night And Day neatly showcases the broad emotional and musical range of Cole Porter’s work\, as exemplified in the title. Adi explains that “I find his songs illuminate different aspects of love\, in a fascinating way and range from light and bubbly romps to such powerfully emotional songs as “Love For Sale” and “In The Still Of The Night.”  Additionally\, a number of songs written by friends of Porter’s will highlighted in Adi’s performance. \nA limited number of reserved tables for 4 and 6 are available for this performance as well as general admission rush seating.  Beer & wine is also available for purchase.  Proceeds from this performance will support TSCH and the Townsend Smith Foundation in their efforts to build a hospice in North Halton. \nBUY TICKETS
URL:https://northhaltonhospice.ca/event/tsch-presents-adi-braun-night-and-day-the-cole-porter-songbook/
LOCATION:The Sanctuary Concert Hall\, 11 Guelph Street\, Halton Hills
CATEGORIES:Event
ATTACH;FMTTYPE=image/jpeg:https://northhaltonhospice.ca/wp-content/uploads/2025/05/adi.jpg
END:VEVENT
BEGIN:VEVENT
DTSTART;TZID=America/Toronto:20250524T180000
DTEND;TZID=America/Toronto:20250524T180000
DTSTAMP:20260421T105857
CREATED:20250407T172948Z
LAST-MODIFIED:20250503T123500Z
UID:10000164-1748109600-1748109600@northhaltonhospice.ca
SUMMARY:6th Annual Denim & Diamonds Spring Gala
DESCRIPTION:We all love our jeans AND our bling\, and on Saturday May 24th\, the Rotary Club of Milton is once again hosting DENIM AND DIAMONDS at Country Heritage Park. You can dress up and dress down for the same evening! Enjoy dinner\, a live band\, auctions\, and best of all\, traditional AND line dancing\, with an instructor to get you off on the right foot! It is always a fun event\, and proceeds are shared between Rotary projects and TSF. \nPURCHASE TICKETS
URL:https://northhaltonhospice.ca/event/6th-annual-denim-diamonds-spring-gala/
CATEGORIES:Event
ATTACH;FMTTYPE=image/png:https://northhaltonhospice.ca/wp-content/uploads/2025/04/Denim-Diamonds-Flyer-March-25-V1.png
END:VEVENT
BEGIN:VEVENT
DTSTART;TZID=America/Toronto:20250531T090000
DTEND;TZID=America/Toronto:20250531T130000
DTSTAMP:20260421T105857
CREATED:20250407T173832Z
LAST-MODIFIED:20250407T173832Z
UID:10000166-1748682000-1748696400@northhaltonhospice.ca
SUMMARY:Charity Clothing Event
DESCRIPTION:Elaine Jones Team is once again hosting a CHARITY CLOTHING EVENT\, on May 31st from 9-1 PM at St Andrew’s Church in Georgetown. They will be accepting donations of new or gently-used women’s clothing\, coats\, and handbags. Organizers Ruth Lee\, Elaine\, and Caitlin say collection will begin after Easter\, and there’s more info to follow. If you are thinking of purging your closets\, please keep this in mind.
URL:https://northhaltonhospice.ca/event/charity-clothing-event/
CATEGORIES:Event
END:VEVENT
END:VCALENDAR