BEGIN:VCALENDAR
VERSION:2.0
PRODID:-//North Halton Hospice - ECPv6.15.20//NONSGML v1.0//EN
CALSCALE:GREGORIAN
METHOD:PUBLISH
X-ORIGINAL-URL:https://northhaltonhospice.ca
X-WR-CALDESC:Events for North Halton Hospice
REFRESH-INTERVAL;VALUE=DURATION:PT1H
X-Robots-Tag:noindex
X-PUBLISHED-TTL:PT1H
BEGIN:VTIMEZONE
TZID:America/Toronto
BEGIN:DAYLIGHT
TZOFFSETFROM:-0500
TZOFFSETTO:-0400
TZNAME:EDT
DTSTART:20240310T070000
END:DAYLIGHT
BEGIN:STANDARD
TZOFFSETFROM:-0400
TZOFFSETTO:-0500
TZNAME:EST
DTSTART:20241103T060000
END:STANDARD
BEGIN:DAYLIGHT
TZOFFSETFROM:-0500
TZOFFSETTO:-0400
TZNAME:EDT
DTSTART:20250309T070000
END:DAYLIGHT
BEGIN:STANDARD
TZOFFSETFROM:-0400
TZOFFSETTO:-0500
TZNAME:EST
DTSTART:20251102T060000
END:STANDARD
BEGIN:DAYLIGHT
TZOFFSETFROM:-0500
TZOFFSETTO:-0400
TZNAME:EDT
DTSTART:20260308T070000
END:DAYLIGHT
BEGIN:STANDARD
TZOFFSETFROM:-0400
TZOFFSETTO:-0500
TZNAME:EST
DTSTART:20261101T060000
END:STANDARD
END:VTIMEZONE
BEGIN:VEVENT
DTSTART;VALUE=DATE:20251001
DTEND;VALUE=DATE:20251023
DTSTAMP:20260421T014946
CREATED:20250924T191145Z
LAST-MODIFIED:20251017T161811Z
UID:10000178-1759276800-1761177599@northhaltonhospice.ca
SUMMARY:Hearts for Hospice
DESCRIPTION:Village Media is working to bring many communities together for a friendly and meaningful local challenge: Hearts for Hospice! This initiative gives residents the opportunity to vote to support their local hospice\, with the community with the most votes receiving a $5\,000 donation for their hospice. The Townsend Smith Foundation will be participating in this challenge this year as two of 13 communities. Vote on both sites to increase our chances of winning $5000\, and show our local community HOW VITAL this project is. \n\nVisit the challenge post on your local SPACES by clicking the corresponding links below:\n\nHaltonHillsToday \nMiltonToday \n\nSign in / register using your email or phone number.\nDouble our chances! “Like” the challenge posts on BOTH local SPACES for the Townsend Smith Foundation to cast your vote. Each reaction counts as one vote for your local hospice.\nRally your friends\, family and neighbours. Encourage your local network to react and help your community climb to the top of the leaderboard.\n\nPlease note: you will need to sign in or register using an email address in order for your likes to be considered\, providing a name is optional. \nVoting closes on October 22nd at 12 PM.  \n 
URL:https://northhaltonhospice.ca/event/hearts-for-hospice/
CATEGORIES:Event
ATTACH;FMTTYPE=image/jpeg:https://northhaltonhospice.ca/wp-content/uploads/2025/09/unnamed-9.jpg
END:VEVENT
BEGIN:VEVENT
DTSTART;TZID=America/Toronto:20251004T193000
DTEND;TZID=America/Toronto:20251004T223000
DTSTAMP:20260421T014946
CREATED:20250504T141807Z
LAST-MODIFIED:20250504T141807Z
UID:10000173-1759606200-1759617000@northhaltonhospice.ca
SUMMARY:An Evening with Amy Sky
DESCRIPTION:One of Canada’s most beloved singer/songwriters brings her amazing repertoire to The Sanctuary Concert Hall in the heart of Georgetown! With hit songs like “I Will Take Care of You” and “Ordinary Miracles”\, this prolific artist has co-written and produced music with many international stars including Anne Murray\, Reba McEntire\, Diana Ross\, Heart\, Belinda Carlisle\, Melissa Manchester\, Cliff Richard\, Aaron Neville\, Roch Voisine and most notably\, Olivia Newton-John. \nWinner of three SOCAN awards\, Amy has also been nominated for four Juno Awards.  Her song” Love Never Fails” was included on the 2009 Grammy nominated New Age Album “Faith” by Jim Brickman.  Amy Sky is “must see” at TSCH. \nBeer & wine available for sale \nBUY TICKETS
URL:https://northhaltonhospice.ca/event/an-evening-with-amy-sky/
LOCATION:The Sanctuary Concert Hall\, 11 Guelph Street\, Halton Hills
CATEGORIES:Event
ATTACH;FMTTYPE=image/jpeg:https://northhaltonhospice.ca/wp-content/uploads/2025/05/amy.jpg
END:VEVENT
BEGIN:VEVENT
DTSTART;VALUE=DATE:20251010
DTEND;VALUE=DATE:20251011
DTSTAMP:20260421T014946
CREATED:20250916T195123Z
LAST-MODIFIED:20250916T195406Z
UID:10000177-1760054400-1760140799@northhaltonhospice.ca
SUMMARY:World Hospice & Palliative Care Day
DESCRIPTION:Join us October 10th\, to raise a flag in honour of World Hospice & Palliative Care Day. \nTime: 10AM\nLocation: 1 Halton Hills Drive\, Georgetown \nTime: 11AM\nLocation: 150 Mary Street\, Milton
URL:https://northhaltonhospice.ca/event/world-hospice-palliative-care-day/
CATEGORIES:Event
ATTACH;FMTTYPE=image/jpeg:https://northhaltonhospice.ca/wp-content/uploads/2025/09/Events-Callouts.jpg
END:VEVENT
BEGIN:VEVENT
DTSTART;VALUE=DATE:20251016
DTEND;VALUE=DATE:20251017
DTSTAMP:20260421T014946
CREATED:20250929T190100Z
LAST-MODIFIED:20251003T185654Z
UID:10000179-1760572800-1760659199@northhaltonhospice.ca
SUMMARY:7th Annual Candlelight Vigil
DESCRIPTION:Townsend Smith Foundation’s 7th annual Candlelight Vigil will be held at 7:00PM at Hillcrest Church\, 8958 Trafalgar Rd\, Georgetown. We are fortunate to have the Tesser family once again providing their musical and hosting talents on this night.
URL:https://northhaltonhospice.ca/event/7th-annual-candlelight-vigil/
CATEGORIES:Event
ATTACH;FMTTYPE=image/jpeg:https://northhaltonhospice.ca/wp-content/uploads/2023/09/Events-Callouts-2.jpg
END:VEVENT
BEGIN:VEVENT
DTSTART;TZID=America/Toronto:20251018T170000
DTEND;TZID=America/Toronto:20251018T210000
DTSTAMP:20260421T014946
CREATED:20251007T172324Z
LAST-MODIFIED:20251007T172738Z
UID:10000180-1760806800-1760821200@northhaltonhospice.ca
SUMMARY:Georgetown Diwali 2025
DESCRIPTION:Join us for an evening of light\, laughter\, and community at the Georgetown Diwali Celebration on Saturday\, October 18th!\n \nHosted by Aditee Goswami in partnership with the Town of Halton Hills\, this vibrant event brings together families and friends to celebrate the Festival of Lights while supporting two meaningful causes – Georgetown Hospital and the Townsend Smith Foundation.\n\n\nTime: 5:00 PM – 9:00 PM\nLocation: 14015 Danby Road\, Georgetown\, ON\nTickets: $40 Adults | $30 Kids (ages 4–12)\n\n\n \nCome celebrate Diwali with your community and help make a difference close to home. For more information please contact Aditee at (647) 871-3551\n\nPurchase Tickets
URL:https://northhaltonhospice.ca/event/georgetown-diwali-2025/
CATEGORIES:Event
ATTACH;FMTTYPE=image/jpeg:https://northhaltonhospice.ca/wp-content/uploads/2025/10/banner2.jpg
END:VEVENT
BEGIN:VEVENT
DTSTART;TZID=America/Toronto:20251022T183000
DTEND;TZID=America/Toronto:20251022T200000
DTSTAMP:20260421T014946
CREATED:20250916T192708Z
LAST-MODIFIED:20250917T004052Z
UID:10000176-1761157800-1761163200@northhaltonhospice.ca
SUMMARY:Death Cafe
DESCRIPTION:The Townsend Smith Foundation is hosting our first death cafe of 2025. Join us for a group-directed discussion where participants are free to explore their thoughts\, feelings\, and experiences about death in a respectful and relaxed environment. Light refreshments will be provided\, but feel free to bring any refreshments as you please. \nNOTE: Registration is required for this event. \nREGISTER NOW
URL:https://northhaltonhospice.ca/event/death-cafe/
LOCATION:Death Cafe\, 8958 Trafalgar Road\, Halton Hills
CATEGORIES:Event
ATTACH;FMTTYPE=image/png:https://northhaltonhospice.ca/wp-content/uploads/2025/09/Death-cafe-website-1.png
END:VEVENT
END:VCALENDAR