BEGIN:VCALENDAR
VERSION:2.0
PRODID:-//North Halton Hospice - ECPv6.15.20//NONSGML v1.0//EN
CALSCALE:GREGORIAN
METHOD:PUBLISH
X-ORIGINAL-URL:https://northhaltonhospice.ca
X-WR-CALDESC:Events for North Halton Hospice
REFRESH-INTERVAL;VALUE=DURATION:PT1H
X-Robots-Tag:noindex
X-PUBLISHED-TTL:PT1H
BEGIN:VTIMEZONE
TZID:America/Toronto
BEGIN:DAYLIGHT
TZOFFSETFROM:-0500
TZOFFSETTO:-0400
TZNAME:EDT
DTSTART:20240310T070000
END:DAYLIGHT
BEGIN:STANDARD
TZOFFSETFROM:-0400
TZOFFSETTO:-0500
TZNAME:EST
DTSTART:20241103T060000
END:STANDARD
BEGIN:DAYLIGHT
TZOFFSETFROM:-0500
TZOFFSETTO:-0400
TZNAME:EDT
DTSTART:20250309T070000
END:DAYLIGHT
BEGIN:STANDARD
TZOFFSETFROM:-0400
TZOFFSETTO:-0500
TZNAME:EST
DTSTART:20251102T060000
END:STANDARD
BEGIN:DAYLIGHT
TZOFFSETFROM:-0500
TZOFFSETTO:-0400
TZNAME:EDT
DTSTART:20260308T070000
END:DAYLIGHT
BEGIN:STANDARD
TZOFFSETFROM:-0400
TZOFFSETTO:-0500
TZNAME:EST
DTSTART:20261101T060000
END:STANDARD
END:VTIMEZONE
BEGIN:VEVENT
DTSTART;TZID=America/Toronto:20251206T130000
DTEND;TZID=America/Toronto:20251206T170000
DTSTAMP:20260420T214642
CREATED:20251126T191427Z
LAST-MODIFIED:20251126T191733Z
UID:10000188-1765026000-1765040400@northhaltonhospice.ca
SUMMARY:Miracle on Main Street 2025
DESCRIPTION:We are thrilled to announce that the Townsend Smith Foundation will be at Miracle on Main Street on Saturday\, December 6th from 1-5 PM!❄️? \nThank you to the Tiger Jeet Singh Foundation\, Downtown Milton Business Improvement Area and Halton regional Police Service for having us. \nCome meet our team and learn more about the hospice that we are raising funds to build in North Halton. \nWhile here help spread holiday cheer and making a difference in the lives of local children and families by donating an unwrapped gift. Every gift\, no matter how big or small\, contributes to the magic of the season. Spread the joy and be a part of something truly special. ??
URL:https://northhaltonhospice.ca/event/miracle-on-main-street-2025/
LOCATION:Main Street\, Milton
CATEGORIES:Event
ATTACH;FMTTYPE=image/jpeg:https://northhaltonhospice.ca/wp-content/uploads/2025/11/2.jpg
END:VEVENT
END:VCALENDAR