BEGIN:VCALENDAR
VERSION:2.0
PRODID:-//North Halton Hospice - ECPv6.15.20//NONSGML v1.0//EN
CALSCALE:GREGORIAN
METHOD:PUBLISH
X-ORIGINAL-URL:https://northhaltonhospice.ca
X-WR-CALDESC:Events for North Halton Hospice
REFRESH-INTERVAL;VALUE=DURATION:PT1H
X-Robots-Tag:noindex
X-PUBLISHED-TTL:PT1H
BEGIN:VTIMEZONE
TZID:America/Toronto
BEGIN:DAYLIGHT
TZOFFSETFROM:-0500
TZOFFSETTO:-0400
TZNAME:EDT
DTSTART:20220313T070000
END:DAYLIGHT
BEGIN:STANDARD
TZOFFSETFROM:-0400
TZOFFSETTO:-0500
TZNAME:EST
DTSTART:20221106T060000
END:STANDARD
BEGIN:DAYLIGHT
TZOFFSETFROM:-0500
TZOFFSETTO:-0400
TZNAME:EDT
DTSTART:20230312T070000
END:DAYLIGHT
BEGIN:STANDARD
TZOFFSETFROM:-0400
TZOFFSETTO:-0500
TZNAME:EST
DTSTART:20231105T060000
END:STANDARD
BEGIN:DAYLIGHT
TZOFFSETFROM:-0500
TZOFFSETTO:-0400
TZNAME:EDT
DTSTART:20240310T070000
END:DAYLIGHT
BEGIN:STANDARD
TZOFFSETFROM:-0400
TZOFFSETTO:-0500
TZNAME:EST
DTSTART:20241103T060000
END:STANDARD
BEGIN:DAYLIGHT
TZOFFSETFROM:-0500
TZOFFSETTO:-0400
TZNAME:EDT
DTSTART:20250309T070000
END:DAYLIGHT
BEGIN:STANDARD
TZOFFSETFROM:-0400
TZOFFSETTO:-0500
TZNAME:EST
DTSTART:20251102T060000
END:STANDARD
BEGIN:DAYLIGHT
TZOFFSETFROM:-0500
TZOFFSETTO:-0400
TZNAME:EDT
DTSTART:20260308T070000
END:DAYLIGHT
BEGIN:STANDARD
TZOFFSETFROM:-0400
TZOFFSETTO:-0500
TZNAME:EST
DTSTART:20261101T060000
END:STANDARD
BEGIN:DAYLIGHT
TZOFFSETFROM:-0500
TZOFFSETTO:-0400
TZNAME:EDT
DTSTART:20270314T070000
END:DAYLIGHT
BEGIN:STANDARD
TZOFFSETFROM:-0400
TZOFFSETTO:-0500
TZNAME:EST
DTSTART:20271107T060000
END:STANDARD
END:VTIMEZONE
BEGIN:VEVENT
DTSTART;TZID=America/Toronto:20260220T090000
DTEND;TZID=America/Toronto:20260220T170000
DTSTAMP:20260420T115123
CREATED:20260126T133713Z
LAST-MODIFIED:20260210T165154Z
UID:10002043-1771578000-1771606800@northhaltonhospice.ca
SUMMARY:Lauraine Andrew's Birthday Fiasco
DESCRIPTION:On February 20th 2026\, Lauraine Andrews turns 80 years old\, and although she sees the ‘aging’ as a bit of a crime\, she plans to ring in 80 years with some silliness\, fun and laughter. \nLaurie’s event will take place at Troy’s Diner (295 Main St E\, Milton ON\, L9T 1P1) from 9:00 AM – 5:00 PM. \nShe will be imprisoned for 8 hours\, one hour for each decade of her wonderful life. In order to ‘bail’ her out\, please visit her during these hours and support her by making a donation payable to the Townsend Smith Foundation. Cash\, cheques and e-transfers to events@townsend-smith.ca will be accepted (In the E-transfer please state the event name\, your name\, and contact information in the message section for accurate receipting). \nShe will be giving out coffee and a cupcake to each patron that donates towards her bail. \nYou can also support her by making a donation to this event fundraiser throughout the month of February. A friendly reminder that all donations above $20.00 are eligible for a tax receipt. \nBuilding a hospice to serve North Halton is a passion for Laurie\, and she would greatly appreciate your support as she celebrates 80 in style. \nDonate Now\nRead the article by Milton Today here!
URL:https://northhaltonhospice.ca/event/lauraine-andrews-birthday-fiasco/
LOCATION:Troy’s Diner\, 295 Main St E\, Milton\, Ontario
CATEGORIES:Fundraiser
ATTACH;FMTTYPE=image/png:https://northhaltonhospice.ca/wp-content/uploads/2026/01/Laurie-bday-cover.png
END:VEVENT
BEGIN:VEVENT
DTSTART;TZID=America/Toronto:20250927T090000
DTEND;TZID=America/Toronto:20250927T120000
DTSTAMP:20260420T115123
CREATED:20250821T201904Z
LAST-MODIFIED:20250910T170448Z
UID:10000175-1758963600-1758974400@northhaltonhospice.ca
SUMMARY:2025 CFHN Giving Challenge
DESCRIPTION:You’re invited to Community Foundation of Halton North’s Giving Challenge on Saturday\, September 27th\, 2026! Join us from 9:00 AM to 12:00 PM online\, on the radio at 101.3 FM\, or at the farmers’ markets and CFHN office. \nMake a gift to CFHN on Saturday September 27 and designate it to your favourite charity that serves Halton North. CFHN will match that gift doubling your contribution. Limits do apply. Support your favourite charity and make an impact in your community. \nView Details
URL:https://northhaltonhospice.ca/event/2025-cfhn-giving-challenge/
LOCATION:Ontario
CATEGORIES:Event,Fundraiser
ATTACH;FMTTYPE=image/jpeg:https://northhaltonhospice.ca/wp-content/uploads/2025/08/Events-Callouts.jpg
END:VEVENT
BEGIN:VEVENT
DTSTART;VALUE=DATE:20250509
DTEND;VALUE=DATE:20250510
DTSTAMP:20260420T115123
CREATED:20250407T173539Z
LAST-MODIFIED:20250407T174710Z
UID:10000165-1746748800-1746835199@northhaltonhospice.ca
SUMMARY:Helping Hands for Hospice
DESCRIPTION:A new fundraiser led by Acton star volunteer Bev Mattocks\, takes place at the Acton Legion on Friday May 9th. Sounds like a great evening of music\, snacks\, and good company\, with proceeds being donated to TSF. Tickets can be purchased from haltonhospice@gmail.com
URL:https://northhaltonhospice.ca/event/helping-hands-for-hospice/
LOCATION:Ontario
CATEGORIES:Fundraiser
END:VEVENT
BEGIN:VEVENT
DTSTART;VALUE=DATE:20230930
DTEND;VALUE=DATE:20231001
DTSTAMP:20260420T115123
CREATED:20230622T173444Z
LAST-MODIFIED:20230919T165439Z
UID:10000116-1696032000-1696118399@northhaltonhospice.ca
SUMMARY:CFHN 2023 Webathon
DESCRIPTION:If you are looking for ways to make an impact in your community and with Townsend Smith Foundation\, join us for the CFHN Webathon 2023\, an online event to support your favourite charity and CFHN will double your donation during this event. \nWhen: Sep 30\, 2023\nTime: 09:00 AM\nWhere: Online \nREGISTER FOR WEBATHON\n 
URL:https://northhaltonhospice.ca/event/cfhn-2023-webathon/
LOCATION:Ontario
CATEGORIES:Fundraiser
ATTACH;FMTTYPE=image/jpeg:https://northhaltonhospice.ca/wp-content/uploads/2023/06/Events-Callouts-1.jpg
END:VEVENT
BEGIN:VEVENT
DTSTART;TZID=America/Toronto:20230421T200000
DTEND;TZID=America/Toronto:20230421T200000
DTSTAMP:20260420T115123
CREATED:20230323T225635Z
LAST-MODIFIED:20230323T230944Z
UID:10000107-1682107200-1682107200@northhaltonhospice.ca
SUMMARY:Marion Singers of Greater Toronto
DESCRIPTION:The Marion Singers’ 2023 spring concerts celebrate the world and its people in mostly acapella music\, spanning centuries and genres. \nDate: Friday April 21st\, 2023\nTime: 8:00 PM\nLocation: The Sanctuary Concert Hall at St. John’s United Church\n11 Guelph Street\, Georgetown\, ON\, L7G 3Z1 \nFundraising event in support of St. John’s and & Townsend Smith Foundation. \nBUY TICKETS NOW
URL:https://northhaltonhospice.ca/event/marion-singers-of-greater-toronto/
LOCATION:Ontario
CATEGORIES:Fundraiser
ATTACH;FMTTYPE=image/jpeg:https://northhaltonhospice.ca/wp-content/uploads/2023/03/Events-Callouts-2.jpg
END:VEVENT
BEGIN:VEVENT
DTSTART;VALUE=DATE:20230318
DTEND;VALUE=DATE:20230319
DTSTAMP:20260420T115123
CREATED:20230311T210112Z
LAST-MODIFIED:20230312T222940Z
UID:10000105-1679097600-1679183999@northhaltonhospice.ca
SUMMARY:Purdys Chocolatier Seasonal Fundraiser
DESCRIPTION:Do something awesome (for yourself and us too!)⁠\n⁠\nPurchase some Purdys chocolates between now and March 18th and support our fundraising campaign to building the first hospice residence for North Halton!⁠ ⁠These are delicious chocolates made with sustainable cocoa and crafted right here in Canada. Lots of selection and great gift ideas just in time for Easter!!!⁠\n⁠⁠\nPickup is scheduled for April 5th at Scooter’s Catering #3 – 390 Ontario Street\, Milton\, ON at 2:00PM — 3:00PM or 5:30PM – 6:30PM. \nORDER NOW
URL:https://northhaltonhospice.ca/event/purdys-chocolatier-seasonal-fundraiser/
LOCATION:Ontario
CATEGORIES:Fundraiser
ATTACH;FMTTYPE=image/jpeg:https://northhaltonhospice.ca/wp-content/uploads/2023/03/Events-Callouts.jpg
END:VEVENT
END:VCALENDAR