BEGIN:VCALENDAR
VERSION:2.0
PRODID:-//North Halton Hospice - ECPv6.15.20//NONSGML v1.0//EN
CALSCALE:GREGORIAN
METHOD:PUBLISH
X-ORIGINAL-URL:https://northhaltonhospice.ca
X-WR-CALDESC:Events for North Halton Hospice
REFRESH-INTERVAL;VALUE=DURATION:PT1H
X-Robots-Tag:noindex
X-PUBLISHED-TTL:PT1H
BEGIN:VTIMEZONE
TZID:America/Toronto
BEGIN:DAYLIGHT
TZOFFSETFROM:-0500
TZOFFSETTO:-0400
TZNAME:EDT
DTSTART:20200308T070000
END:DAYLIGHT
BEGIN:STANDARD
TZOFFSETFROM:-0400
TZOFFSETTO:-0500
TZNAME:EST
DTSTART:20201101T060000
END:STANDARD
BEGIN:DAYLIGHT
TZOFFSETFROM:-0500
TZOFFSETTO:-0400
TZNAME:EDT
DTSTART:20210314T070000
END:DAYLIGHT
BEGIN:STANDARD
TZOFFSETFROM:-0400
TZOFFSETTO:-0500
TZNAME:EST
DTSTART:20211107T060000
END:STANDARD
BEGIN:DAYLIGHT
TZOFFSETFROM:-0500
TZOFFSETTO:-0400
TZNAME:EDT
DTSTART:20220313T070000
END:DAYLIGHT
BEGIN:STANDARD
TZOFFSETFROM:-0400
TZOFFSETTO:-0500
TZNAME:EST
DTSTART:20221106T060000
END:STANDARD
END:VTIMEZONE
BEGIN:VEVENT
DTSTART;TZID=America/Toronto:20211020T120000
DTEND;TZID=America/Toronto:20211020T130000
DTSTAMP:20260426T002949
CREATED:20210806T003541Z
LAST-MODIFIED:20210921T121615Z
UID:10000076-1634731200-1634734800@northhaltonhospice.ca
SUMMARY:Hope in Hospice
DESCRIPTION:Hospice does not mean giving up. Patients\, families and a hospice work together to develop plans that consider health\, spiritual wellbeing and family. Hospice care extends beyond the resident to their family\, friends and community. The intention of a hospice program is to offer comfort and care\, focus on quality of life\, and offer support. \nJoin Nina Page of Acclaim Health in an interactive discussion on finding hope in hospice. \nFeatured Speaker: Nina has been a pastoral\, palliative volunteer at Allendale LTC for over 20 years and in 2012 accepted the position of Chaplain. Nina was ordained a Vocational Deacon in the Anglican Church in 2012. Nina studied at the Toronto School of Pastoral Care and was accepted into the College of Psychotherapy in 2016\, started as a volunteer with Acclaim Health as a co facilitator for Spousal Loss Bereavement Support Group and was offered a permanent part time position as a Bereavement Counsellor in 2017. Since then Nina has been part of the team of Hospice and Bereavement Counsellors at Acclaim Health and in 2019 was invited to be a Bereavement and Spiritual Care Counsellor. In 2021\, Nina took her training as a Death Doula and completed training as a DBT counsellor. \nNina lives in Milton with husband John and one “Fur baby” They have two sons\, 4 grandchildren and 3 step grandchildren. \nNina is an active member of the Milton community. \n\nREGISTER FOR PRESENTATION\n\n\n  \n\n\n\n First name\n \n \n Last name\n \n \n Your email
URL:https://northhaltonhospice.ca/event/hope-in-hospice/
LOCATION:ON
CATEGORIES:Presentation
END:VEVENT
END:VCALENDAR