BEGIN:VCALENDAR
VERSION:2.0
PRODID:-//North Halton Hospice - ECPv6.15.20//NONSGML v1.0//EN
CALSCALE:GREGORIAN
METHOD:PUBLISH
X-WR-CALNAME:North Halton Hospice
X-ORIGINAL-URL:https://northhaltonhospice.ca
X-WR-CALDESC:Events for North Halton Hospice
REFRESH-INTERVAL;VALUE=DURATION:PT1H
X-Robots-Tag:noindex
X-PUBLISHED-TTL:PT1H
BEGIN:VTIMEZONE
TZID:America/Toronto
BEGIN:DAYLIGHT
TZOFFSETFROM:-0500
TZOFFSETTO:-0400
TZNAME:EDT
DTSTART:20200308T070000
END:DAYLIGHT
BEGIN:STANDARD
TZOFFSETFROM:-0400
TZOFFSETTO:-0500
TZNAME:EST
DTSTART:20201101T060000
END:STANDARD
BEGIN:DAYLIGHT
TZOFFSETFROM:-0500
TZOFFSETTO:-0400
TZNAME:EDT
DTSTART:20210314T070000
END:DAYLIGHT
BEGIN:STANDARD
TZOFFSETFROM:-0400
TZOFFSETTO:-0500
TZNAME:EST
DTSTART:20211107T060000
END:STANDARD
BEGIN:DAYLIGHT
TZOFFSETFROM:-0500
TZOFFSETTO:-0400
TZNAME:EDT
DTSTART:20220313T070000
END:DAYLIGHT
BEGIN:STANDARD
TZOFFSETFROM:-0400
TZOFFSETTO:-0500
TZNAME:EST
DTSTART:20221106T060000
END:STANDARD
END:VTIMEZONE
BEGIN:VEVENT
DTSTART;TZID=America/Toronto:20211104T120000
DTEND;TZID=America/Toronto:20211104T130000
DTSTAMP:20260425T224530
CREATED:20210928T125910Z
LAST-MODIFIED:20211106T151335Z
UID:10000078-1636027200-1636030800@northhaltonhospice.ca
SUMMARY:Palliative Care: It’s More Than You Think
DESCRIPTION:An in-depth discussion on the wide spectrum of benefits palliative care offers at any stage of an illness journey\, including chronic diseases. \nFeatured Speaker: Dr. Tarek Kazem is a Palliative Care Physician and Clinical Lead for the Palliative Care Program at Halton Healthcare. He is also the Co-Lead for the Palliative Care stream of the Connected Care Halton Ontario Health Team. Dr. Kazem obtained his undergraduate medical degree from McMaster University in 2011. He then successfully completed a residency in Family Medicine at the University of Western Ontario\, followed by a Palliative Care Fellowship at the University of Toronto. He is a passionate educator and holds the appointment of Assistant Clinical Professor at McMaster University. His clinical interests include complex cancer pain management\, and integrating technology into healthcare to improve patient and family experiences. \n\n 
URL:https://northhaltonhospice.ca/event/palliative-care-its-more-than-you-think/
LOCATION:ON
CATEGORIES:Presentation
END:VEVENT
END:VCALENDAR