BEGIN:VCALENDAR
VERSION:2.0
PRODID:-//North Halton Hospice - ECPv6.15.20//NONSGML v1.0//EN
CALSCALE:GREGORIAN
METHOD:PUBLISH
X-WR-CALNAME:North Halton Hospice
X-ORIGINAL-URL:https://northhaltonhospice.ca
X-WR-CALDESC:Events for North Halton Hospice
REFRESH-INTERVAL;VALUE=DURATION:PT1H
X-Robots-Tag:noindex
X-PUBLISHED-TTL:PT1H
BEGIN:VTIMEZONE
TZID:America/Toronto
BEGIN:DAYLIGHT
TZOFFSETFROM:-0500
TZOFFSETTO:-0400
TZNAME:EDT
DTSTART:20230312T070000
END:DAYLIGHT
BEGIN:STANDARD
TZOFFSETFROM:-0400
TZOFFSETTO:-0500
TZNAME:EST
DTSTART:20231105T060000
END:STANDARD
BEGIN:DAYLIGHT
TZOFFSETFROM:-0500
TZOFFSETTO:-0400
TZNAME:EDT
DTSTART:20240310T070000
END:DAYLIGHT
BEGIN:STANDARD
TZOFFSETFROM:-0400
TZOFFSETTO:-0500
TZNAME:EST
DTSTART:20241103T060000
END:STANDARD
BEGIN:DAYLIGHT
TZOFFSETFROM:-0500
TZOFFSETTO:-0400
TZNAME:EDT
DTSTART:20250309T070000
END:DAYLIGHT
BEGIN:STANDARD
TZOFFSETFROM:-0400
TZOFFSETTO:-0500
TZNAME:EST
DTSTART:20251102T060000
END:STANDARD
END:VTIMEZONE
BEGIN:VEVENT
DTSTART;TZID=America/Toronto:20240413T183000
DTEND;TZID=America/Toronto:20240413T183000
DTSTAMP:20260423T192737
CREATED:20240304T174450Z
LAST-MODIFIED:20240304T175140Z
UID:10000133-1713033000-1713033000@northhaltonhospice.ca
SUMMARY:2024 Rotary Spring Gala
DESCRIPTION:Guests\, Rotarians\, family and friends will enjoy food and fun in support of a great cause at The Grand Chalet (Grande Room) on the night of Saturday\, April 13\, 2024 at 6:30 pm. Net proceeds go to worthy local causes supported directly by Milton Rotary: Townsend Smith Foundation and Darling Home for Kids.   \nCome celebrate with a sit-down dinner\, dancing and fun! Dress up in your finest Hawaiian Luau wear. Enjoy dancing\, with the sweet sounds of Milton’s own live band\, The Groovy Brothers! A delicious dinner will be offered. A vegetarian option for dinner is offered\, and all food served by the Grand Chalet conforms to Halal specifications. Dance the night away and bid on live and silent auction items.\nEARLY-BIRD SINGLE tickets are $125 each. Buy a table of eight seats and SAVE $$$! Tables are priced at $950 (Save $50!). Early-bird cut off is March 18th.\n  \nQuestions? MiltonRotary7080@gmail.com\nBUY TICKETS
URL:https://northhaltonhospice.ca/event/2024-rotary-spring-gala/
CATEGORIES:Event
ATTACH;FMTTYPE=image/jpeg:https://northhaltonhospice.ca/wp-content/uploads/2024/03/gala.jpg
END:VEVENT
BEGIN:VEVENT
DTSTART;TZID=America/Toronto:20240419T193000
DTEND;TZID=America/Toronto:20240419T223000
DTSTAMP:20260423T192737
CREATED:20240401T165639Z
LAST-MODIFIED:20240401T170049Z
UID:10000135-1713555000-1713565800@northhaltonhospice.ca
SUMMARY:Adam James and his Band
DESCRIPTION:The Sanctuary Concert Hall is thrilled to present Georgetown native ADAM JAMES and his band\, direct from L.A. ADAM JAMES (Broughton)\, singer\, songwriter\, producer\, brings his L.A. show to Georgetown for an evening of Sinatra\, jazz\, inspirational life stories and more in the intimate setting at The Sanctuary Concert Hall. \n“I’ve seen many play Sinatra on stage\, Adam’s the best!” – Quincy Jones \nDoors open at 6:45pm\, show begins at 7:30pm. \n20-VIP ticket packages are available and include a private\, pre-concert meet & greet with the performers at 6:00pm\, light buffet\, one free drink and more.  \nProceeds are shared with the Townsend Smith Foundation to support building a hospice in North Halton. \nVenue\nThe Sanctuary Concert Hall\n11 Guelph Street\nHalton Hills\, Ontario L7G 3Z1 \nBUY TICKETS
URL:https://northhaltonhospice.ca/event/adam-james-and-his-band/
CATEGORIES:Event
ATTACH;FMTTYPE=image/jpeg:https://northhaltonhospice.ca/wp-content/uploads/2024/04/adam-james.jpg
END:VEVENT
END:VCALENDAR