BEGIN:VCALENDAR
VERSION:2.0
PRODID:-//North Halton Hospice - ECPv6.15.20//NONSGML v1.0//EN
CALSCALE:GREGORIAN
METHOD:PUBLISH
X-WR-CALNAME:North Halton Hospice
X-ORIGINAL-URL:https://northhaltonhospice.ca
X-WR-CALDESC:Events for North Halton Hospice
REFRESH-INTERVAL;VALUE=DURATION:PT1H
X-Robots-Tag:noindex
X-PUBLISHED-TTL:PT1H
BEGIN:VTIMEZONE
TZID:America/Toronto
BEGIN:DAYLIGHT
TZOFFSETFROM:-0500
TZOFFSETTO:-0400
TZNAME:EDT
DTSTART:20230312T070000
END:DAYLIGHT
BEGIN:STANDARD
TZOFFSETFROM:-0400
TZOFFSETTO:-0500
TZNAME:EST
DTSTART:20231105T060000
END:STANDARD
BEGIN:DAYLIGHT
TZOFFSETFROM:-0500
TZOFFSETTO:-0400
TZNAME:EDT
DTSTART:20240310T070000
END:DAYLIGHT
BEGIN:STANDARD
TZOFFSETFROM:-0400
TZOFFSETTO:-0500
TZNAME:EST
DTSTART:20241103T060000
END:STANDARD
BEGIN:DAYLIGHT
TZOFFSETFROM:-0500
TZOFFSETTO:-0400
TZNAME:EDT
DTSTART:20250309T070000
END:DAYLIGHT
BEGIN:STANDARD
TZOFFSETFROM:-0400
TZOFFSETTO:-0500
TZNAME:EST
DTSTART:20251102T060000
END:STANDARD
END:VTIMEZONE
BEGIN:VEVENT
DTSTART;TZID=America/Toronto:20240504T100000
DTEND;TZID=America/Toronto:20240504T140000
DTSTAMP:20260423T175051
CREATED:20240125T190033Z
LAST-MODIFIED:20240125T190033Z
UID:10000129-1714816800-1714831200@northhaltonhospice.ca
SUMMARY:7th Annual Hike for Hospice
DESCRIPTION:View event details and sponsorship opportunities click here.
URL:https://northhaltonhospice.ca/event/7th-annual-hike-for-hospice/
ATTACH;FMTTYPE=image/png:https://northhaltonhospice.ca/wp-content/uploads/2024/01/Events-Callouts-1.png
END:VEVENT
BEGIN:VEVENT
DTSTART;TZID=America/Toronto:20240524T193000
DTEND;TZID=America/Toronto:20240524T223000
DTSTAMP:20260423T175051
CREATED:20240401T170502Z
LAST-MODIFIED:20240401T170502Z
UID:10000136-1716579000-1716589800@northhaltonhospice.ca
SUMMARY:Fossil Rockers with guest RAVE ON
DESCRIPTION:Long time Georgetown residents Bill & Janine Kent (nee Prouse)\, Brent Barkhouse\, Paul Thompson\, and Steve Jones along with Guelph native Matt Teeter are the “Fossil Rockers”. Previously known as “Double Exposure” to many Georgetown residents\, they are a fun and talented group of musicians who have been playing music together for many years. \nWith this performance at TSCH featuring the music of Simon and Garfunkel\, the group returns to its roots both musically and locally. \nDoors open at 6:45pm\, show begins at 7:30pm.\n\nProceeds are shared with the Townsend Smith Foundation to support building a hospice in North Halton. \nVenue\nThe Sanctuary Concert Hall\n11 Guelph Street\nHalton Hills\, Ontario L7G 3Z1 \nBUY TICKETS
URL:https://northhaltonhospice.ca/event/fossil-rockers-with-guest-rave-on/
CATEGORIES:Event
ATTACH;FMTTYPE=image/jpeg:https://northhaltonhospice.ca/wp-content/uploads/2024/04/fossil-rockers.jpg
END:VEVENT
END:VCALENDAR