BEGIN:VCALENDAR
VERSION:2.0
PRODID:-//North Halton Hospice - ECPv6.15.20//NONSGML v1.0//EN
CALSCALE:GREGORIAN
METHOD:PUBLISH
X-WR-CALNAME:North Halton Hospice
X-ORIGINAL-URL:https://northhaltonhospice.ca
X-WR-CALDESC:Events for North Halton Hospice
REFRESH-INTERVAL;VALUE=DURATION:PT1H
X-Robots-Tag:noindex
X-PUBLISHED-TTL:PT1H
BEGIN:VTIMEZONE
TZID:America/Toronto
BEGIN:DAYLIGHT
TZOFFSETFROM:-0500
TZOFFSETTO:-0400
TZNAME:EDT
DTSTART:20240310T070000
END:DAYLIGHT
BEGIN:STANDARD
TZOFFSETFROM:-0400
TZOFFSETTO:-0500
TZNAME:EST
DTSTART:20241103T060000
END:STANDARD
BEGIN:DAYLIGHT
TZOFFSETFROM:-0500
TZOFFSETTO:-0400
TZNAME:EDT
DTSTART:20250309T070000
END:DAYLIGHT
BEGIN:STANDARD
TZOFFSETFROM:-0400
TZOFFSETTO:-0500
TZNAME:EST
DTSTART:20251102T060000
END:STANDARD
BEGIN:DAYLIGHT
TZOFFSETFROM:-0500
TZOFFSETTO:-0400
TZNAME:EDT
DTSTART:20260308T070000
END:DAYLIGHT
BEGIN:STANDARD
TZOFFSETFROM:-0400
TZOFFSETTO:-0500
TZNAME:EST
DTSTART:20261101T060000
END:STANDARD
END:VTIMEZONE
BEGIN:VEVENT
DTSTART;TZID=America/Toronto:20250412T110000
DTEND;TZID=America/Toronto:20250412T160000
DTSTAMP:20260423T010353
CREATED:20250407T171435Z
LAST-MODIFIED:20250407T173148Z
UID:10000162-1744455600-1744473600@northhaltonhospice.ca
SUMMARY:Milton Dessert Festival + Spring Fling Market
DESCRIPTION:Saturday\, April 12th from 11 til 4 at the Milton Sports Centre on Santa Maria Blvd. It’s organized by our friend Becca Williams at Neighbourhood Events\, and features bakers\, makers\, live music\, and other spring-themed activities. TSF will have an information table there: let us know if you want to come out and volunteer with us. Or pop in for a visit – entrance is $5\, and kids under 14 enter for free. Don’t miss it! After all\, it is a DESSERT FEST. There will be desserts\, and Townsend Smith Foundation and our hospice is Becca’s charity partner. \nView Full Details: https://experiencemilton.com/event/milton-dessert-festival-spring-fling-market/
URL:https://northhaltonhospice.ca/event/milton-dessert-festival-spring-fling-market/
CATEGORIES:Event
ATTACH;FMTTYPE=image/jpeg:https://northhaltonhospice.ca/wp-content/uploads/2025/04/dessert.jpg
END:VEVENT
BEGIN:VEVENT
DTSTART;VALUE=DATE:20250424
DTEND;VALUE=DATE:20250425
DTSTAMP:20260423T010353
CREATED:20250113T203823Z
LAST-MODIFIED:20250120T002924Z
UID:10000159-1745452800-1745539199@northhaltonhospice.ca
SUMMARY:Rock the Runway for Hospice 2025
DESCRIPTION:Rock the Runway for Hospice is an exclusive evening of fashion and fun supporting the Townsend Smith Foundation in its effort to build North Halton’s first palliative care hospice residence. The evening will feature a fashion show\, DJ\, Food\, Live Auction & more! \nBUY TICKETS\nInterested in becoming a sponsor? Click here for details.
URL:https://northhaltonhospice.ca/event/rock-the-runway-for-hospice-2025/
ATTACH;FMTTYPE=image/jpeg:https://northhaltonhospice.ca/wp-content/uploads/2025/01/Events-Callouts.jpg
END:VEVENT
END:VCALENDAR