BEGIN:VCALENDAR
VERSION:2.0
PRODID:-//North Halton Hospice - ECPv6.15.20//NONSGML v1.0//EN
CALSCALE:GREGORIAN
METHOD:PUBLISH
X-ORIGINAL-URL:https://northhaltonhospice.ca
X-WR-CALDESC:Events for North Halton Hospice
REFRESH-INTERVAL;VALUE=DURATION:PT1H
X-Robots-Tag:noindex
X-PUBLISHED-TTL:PT1H
BEGIN:VTIMEZONE
TZID:America/Toronto
BEGIN:DAYLIGHT
TZOFFSETFROM:-0500
TZOFFSETTO:-0400
TZNAME:EDT
DTSTART:20240310T070000
END:DAYLIGHT
BEGIN:STANDARD
TZOFFSETFROM:-0400
TZOFFSETTO:-0500
TZNAME:EST
DTSTART:20241103T060000
END:STANDARD
BEGIN:DAYLIGHT
TZOFFSETFROM:-0500
TZOFFSETTO:-0400
TZNAME:EDT
DTSTART:20250309T070000
END:DAYLIGHT
BEGIN:STANDARD
TZOFFSETFROM:-0400
TZOFFSETTO:-0500
TZNAME:EST
DTSTART:20251102T060000
END:STANDARD
BEGIN:DAYLIGHT
TZOFFSETFROM:-0500
TZOFFSETTO:-0400
TZNAME:EDT
DTSTART:20260308T070000
END:DAYLIGHT
BEGIN:STANDARD
TZOFFSETFROM:-0400
TZOFFSETTO:-0500
TZNAME:EST
DTSTART:20261101T060000
END:STANDARD
END:VTIMEZONE
BEGIN:VEVENT
DTSTART;TZID=America/Toronto:20251103T190000
DTEND;TZID=America/Toronto:20251103T203000
DTSTAMP:20260422T134513
CREATED:20251101T120805Z
LAST-MODIFIED:20251101T120958Z
UID:10000182-1762196400-1762201800@northhaltonhospice.ca
SUMMARY:Horizons of Hope Series
DESCRIPTION:The Townsend Smith Foundation is pleased to offer a four-part educational series facilitated by Catholic Deacon Joe Murphy of Saint Benedict Parish\, Milton (Hamilton Diocese). \nThis faith-based program provides caregivers\, family members\, and friends facing a terminal illness with space to learn\, reflect\, and find hope in the palliative care journey – exploring palliative care through theological\, ethical\, and medical perspectives. \n* individuals from all faiths are welcome\, but please note that these sessions are based on Catholic beliefs. \nRegistration is free – sign up for as many sessions as you would like. Registration for each session will close 24 hours before the session begins. \nRegister Now
URL:https://northhaltonhospice.ca/event/horizons-of-hope-series/2025-11-03/
LOCATION:8958 Trafalgar Rd. Georgetown
CATEGORIES:Workshop
ATTACH;FMTTYPE=image/jpeg:https://northhaltonhospice.ca/wp-content/uploads/2025/11/event.jpg
END:VEVENT
BEGIN:VEVENT
DTSTART;TZID=America/Toronto:20251110T190000
DTEND;TZID=America/Toronto:20251110T203000
DTSTAMP:20260422T134513
CREATED:20251101T120805Z
LAST-MODIFIED:20251101T120958Z
UID:10000183-1762801200-1762806600@northhaltonhospice.ca
SUMMARY:Horizons of Hope Series
DESCRIPTION:The Townsend Smith Foundation is pleased to offer a four-part educational series facilitated by Catholic Deacon Joe Murphy of Saint Benedict Parish\, Milton (Hamilton Diocese). \nThis faith-based program provides caregivers\, family members\, and friends facing a terminal illness with space to learn\, reflect\, and find hope in the palliative care journey – exploring palliative care through theological\, ethical\, and medical perspectives. \n* individuals from all faiths are welcome\, but please note that these sessions are based on Catholic beliefs. \nRegistration is free – sign up for as many sessions as you would like. Registration for each session will close 24 hours before the session begins. \nRegister Now
URL:https://northhaltonhospice.ca/event/horizons-of-hope-series/2025-11-10/
LOCATION:8958 Trafalgar Rd. Georgetown
CATEGORIES:Workshop
ATTACH;FMTTYPE=image/jpeg:https://northhaltonhospice.ca/wp-content/uploads/2025/11/event.jpg
END:VEVENT
BEGIN:VEVENT
DTSTART;TZID=America/Toronto:20251114T140000
DTEND;TZID=America/Toronto:20251114T190000
DTSTAMP:20260422T134513
CREATED:20251103T002225Z
LAST-MODIFIED:20251103T002406Z
UID:10000186-1763128800-1763146800@northhaltonhospice.ca
SUMMARY:Elaine Jones Team 3rd Annual Community Winter Market
DESCRIPTION:The Elaine Jones Team is hosting its 3rd Annual Community Winter Market on Friday\, November 14th from 2:00 PM to 7:00 PM at 89 Mountainview Rd. S.\, Georgetown. \nThe event will feature more than 20 local artisans offering handmade goods\, seasonal treats\, and unique holiday gifts. Visitors can also participate in raffle draws\, with funds supporting the Townsend Smith Foundation and its efforts to build a hospice for North Halton. This is a wonderful opportunity to shop local and support the construction of our hospice. \nFor more information\, visit www.elainejones.ca 
URL:https://northhaltonhospice.ca/event/elaine-jones-team-3rd-annual-community-winter-market/
CATEGORIES:Event
ATTACH;FMTTYPE=image/jpeg:https://northhaltonhospice.ca/wp-content/uploads/2025/11/wintermarket.jpg
END:VEVENT
BEGIN:VEVENT
DTSTART;TZID=America/Toronto:20251117T190000
DTEND;TZID=America/Toronto:20251117T203000
DTSTAMP:20260422T134513
CREATED:20251101T120805Z
LAST-MODIFIED:20251101T120958Z
UID:10000184-1763406000-1763411400@northhaltonhospice.ca
SUMMARY:Horizons of Hope Series
DESCRIPTION:The Townsend Smith Foundation is pleased to offer a four-part educational series facilitated by Catholic Deacon Joe Murphy of Saint Benedict Parish\, Milton (Hamilton Diocese). \nThis faith-based program provides caregivers\, family members\, and friends facing a terminal illness with space to learn\, reflect\, and find hope in the palliative care journey – exploring palliative care through theological\, ethical\, and medical perspectives. \n* individuals from all faiths are welcome\, but please note that these sessions are based on Catholic beliefs. \nRegistration is free – sign up for as many sessions as you would like. Registration for each session will close 24 hours before the session begins. \nRegister Now
URL:https://northhaltonhospice.ca/event/horizons-of-hope-series/2025-11-17/
LOCATION:8958 Trafalgar Rd. Georgetown
CATEGORIES:Workshop
ATTACH;FMTTYPE=image/jpeg:https://northhaltonhospice.ca/wp-content/uploads/2025/11/event.jpg
END:VEVENT
END:VCALENDAR