BEGIN:VCALENDAR
VERSION:2.0
PRODID:-//North Halton Hospice - ECPv6.15.20//NONSGML v1.0//EN
CALSCALE:GREGORIAN
METHOD:PUBLISH
X-WR-CALNAME:North Halton Hospice
X-ORIGINAL-URL:https://northhaltonhospice.ca
X-WR-CALDESC:Events for North Halton Hospice
REFRESH-INTERVAL;VALUE=DURATION:PT1H
X-Robots-Tag:noindex
X-PUBLISHED-TTL:PT1H
BEGIN:VTIMEZONE
TZID:America/Toronto
BEGIN:DAYLIGHT
TZOFFSETFROM:-0500
TZOFFSETTO:-0400
TZNAME:EDT
DTSTART:20250309T070000
END:DAYLIGHT
BEGIN:STANDARD
TZOFFSETFROM:-0400
TZOFFSETTO:-0500
TZNAME:EST
DTSTART:20251102T060000
END:STANDARD
BEGIN:DAYLIGHT
TZOFFSETFROM:-0500
TZOFFSETTO:-0400
TZNAME:EDT
DTSTART:20260308T070000
END:DAYLIGHT
BEGIN:STANDARD
TZOFFSETFROM:-0400
TZOFFSETTO:-0500
TZNAME:EST
DTSTART:20261101T060000
END:STANDARD
BEGIN:DAYLIGHT
TZOFFSETFROM:-0500
TZOFFSETTO:-0400
TZNAME:EDT
DTSTART:20270314T070000
END:DAYLIGHT
BEGIN:STANDARD
TZOFFSETFROM:-0400
TZOFFSETTO:-0500
TZNAME:EST
DTSTART:20271107T060000
END:STANDARD
END:VTIMEZONE
BEGIN:VEVENT
DTSTART;TZID=America/Toronto:20260201T140000
DTEND;TZID=America/Toronto:20260201T153000
DTSTAMP:20260422T083808
CREATED:20260117T193952Z
LAST-MODIFIED:20260126T155531Z
UID:10002040-1769954400-1769959800@northhaltonhospice.ca
SUMMARY:Death Cafe 2026
DESCRIPTION:Based on the success and popularity of our last session\, the Townsend Smith Foundation will be returning with another death cafe! Join us for a group-directed discussion where participants are free to explore their thoughts\, feelings\, and experiences about death in a respectful and relaxed environment. Registration is required as spots are limited. Registration is free\, however donations are always welcome. We would encourage you to support our hosts by purchasing refreshments at the venue. \nA Death Café is a group-led discussion about death. The goal of these spaces is to encourage and normalize conversations about this universal\, yet not often talked about\, experience. By becoming more aware of death\, we can better appreciate and make the most of our finite lives. \nThis event will be facilitated by Anne Stewart\, TSF Volunteer and founder of Holding Space Halton and the Townsend Smith Foundation\, and provides a welcoming space for open-ended conversations. There are no formal agendas\, objectives\, or themes – just an opportunity to explore death as a natural part of life\, reflect on personal perspectives\, and connect with others over a topic that is often overlooked or misunderstood. \nReserve A Spot
URL:https://northhaltonhospice.ca/event/death-cafe-2026/
LOCATION:The Club at North Halton\, 363 Maple Avenue\, Georgetown\, Ontario
CATEGORIES:Event
ATTACH;FMTTYPE=image/png:https://northhaltonhospice.ca/wp-content/uploads/2026/01/dc-event-cover.png
END:VEVENT
BEGIN:VEVENT
DTSTART;VALUE=DATE:20260206
DTEND;VALUE=DATE:20260207
DTSTAMP:20260422T083808
CREATED:20260121T184908Z
LAST-MODIFIED:20260121T185204Z
UID:10002041-1770336000-1770422399@northhaltonhospice.ca
SUMMARY:Red Nose Day 2026
DESCRIPTION:Wear a Red Nose on Friday February 6th to beat the February blahs and make people smile. Red Noses are available for sale at Acton Optical (80 Mill Street East) for $2.00. Net proceeds will be going to our much needed North Halton’s first Hospice Townsend Smith Foundation.\n\nView Full Details
URL:https://northhaltonhospice.ca/event/red-nose-day-2026/
CATEGORIES:Event
ATTACH;FMTTYPE=image/jpeg:https://northhaltonhospice.ca/wp-content/uploads/2026/01/banner-rednose.jpg
END:VEVENT
BEGIN:VEVENT
DTSTART;TZID=America/Toronto:20260220T090000
DTEND;TZID=America/Toronto:20260220T170000
DTSTAMP:20260422T083808
CREATED:20260126T133713Z
LAST-MODIFIED:20260210T165154Z
UID:10002043-1771578000-1771606800@northhaltonhospice.ca
SUMMARY:Lauraine Andrew's Birthday Fiasco
DESCRIPTION:On February 20th 2026\, Lauraine Andrews turns 80 years old\, and although she sees the ‘aging’ as a bit of a crime\, she plans to ring in 80 years with some silliness\, fun and laughter. \nLaurie’s event will take place at Troy’s Diner (295 Main St E\, Milton ON\, L9T 1P1) from 9:00 AM – 5:00 PM. \nShe will be imprisoned for 8 hours\, one hour for each decade of her wonderful life. In order to ‘bail’ her out\, please visit her during these hours and support her by making a donation payable to the Townsend Smith Foundation. Cash\, cheques and e-transfers to events@townsend-smith.ca will be accepted (In the E-transfer please state the event name\, your name\, and contact information in the message section for accurate receipting). \nShe will be giving out coffee and a cupcake to each patron that donates towards her bail. \nYou can also support her by making a donation to this event fundraiser throughout the month of February. A friendly reminder that all donations above $20.00 are eligible for a tax receipt. \nBuilding a hospice to serve North Halton is a passion for Laurie\, and she would greatly appreciate your support as she celebrates 80 in style. \nDonate Now\nRead the article by Milton Today here!
URL:https://northhaltonhospice.ca/event/lauraine-andrews-birthday-fiasco/
LOCATION:Troy’s Diner\, 295 Main St E\, Milton\, Ontario
CATEGORIES:Fundraiser
ATTACH;FMTTYPE=image/png:https://northhaltonhospice.ca/wp-content/uploads/2026/01/Laurie-bday-cover.png
END:VEVENT
END:VCALENDAR