BEGIN:VCALENDAR
VERSION:2.0
PRODID:-//North Halton Hospice - ECPv6.15.20//NONSGML v1.0//EN
CALSCALE:GREGORIAN
METHOD:PUBLISH
X-WR-CALNAME:North Halton Hospice
X-ORIGINAL-URL:https://northhaltonhospice.ca
X-WR-CALDESC:Events for North Halton Hospice
REFRESH-INTERVAL;VALUE=DURATION:PT1H
X-Robots-Tag:noindex
X-PUBLISHED-TTL:PT1H
BEGIN:VTIMEZONE
TZID:America/Toronto
BEGIN:DAYLIGHT
TZOFFSETFROM:-0500
TZOFFSETTO:-0400
TZNAME:EDT
DTSTART:20250309T070000
END:DAYLIGHT
BEGIN:STANDARD
TZOFFSETFROM:-0400
TZOFFSETTO:-0500
TZNAME:EST
DTSTART:20251102T060000
END:STANDARD
BEGIN:DAYLIGHT
TZOFFSETFROM:-0500
TZOFFSETTO:-0400
TZNAME:EDT
DTSTART:20260308T070000
END:DAYLIGHT
BEGIN:STANDARD
TZOFFSETFROM:-0400
TZOFFSETTO:-0500
TZNAME:EST
DTSTART:20261101T060000
END:STANDARD
BEGIN:DAYLIGHT
TZOFFSETFROM:-0500
TZOFFSETTO:-0400
TZNAME:EDT
DTSTART:20270314T070000
END:DAYLIGHT
BEGIN:STANDARD
TZOFFSETFROM:-0400
TZOFFSETTO:-0500
TZNAME:EST
DTSTART:20271107T060000
END:STANDARD
END:VTIMEZONE
BEGIN:VEVENT
DTSTART;TZID=America/Toronto:20260501T173000
DTEND;TZID=America/Toronto:20260501T173000
DTSTAMP:20260422T064023
CREATED:20260307T025458Z
LAST-MODIFIED:20260407T174120Z
UID:10002047-1777656600-1777656600@northhaltonhospice.ca
SUMMARY:Rotary Club of Acton's Spring Gala
DESCRIPTION:Tickets are now available for Rotary Club of Acton Ontario’s annual Spring Gala Tapas Dinner\, live and silent auction in support of the Townsend Smith Foundation and local rotary causes! Join us for a very fun night. \nTickets are $75 and are available for purchase:\n– at Acton Optical (cash or cheque)\,\n– through E-Transfer to rotaryacton@gmail.com (please include names of all guests)\n– through Credit Card (additional handling fees applied). \nPurchase tickets here
URL:https://northhaltonhospice.ca/event/spring/
LOCATION:Acton Town Hall Center\, 19 Willow Street North\, Acton\, ON\, L7J 1Z6\, Canada
ATTACH;FMTTYPE=image/png:https://northhaltonhospice.ca/wp-content/uploads/2026/03/Screenshot-2026-03-06-at-9.57.58-PM.png
ORGANIZER;CN="Acton Rotary":MAILTO:ActonRotary@Hotmail.com
END:VEVENT
BEGIN:VEVENT
DTSTART;TZID=America/Toronto:20260502T000000
DTEND;TZID=America/Toronto:20260502T235959
DTSTAMP:20260422T064023
CREATED:20260307T030615Z
LAST-MODIFIED:20260322T221514Z
UID:10002048-1777680000-1777766399@northhaltonhospice.ca
SUMMARY:Hike for Hospice
DESCRIPTION:The Townsend Smith Foundation’s Hike for Hospice is back on May 2\, 2026! \nJoin us for the 2026 Hike for Hospice and be part of something meaningful. Whether you walk in Acton\, Georgetown\, or Milton\, every step you take helps bring compassionate hospice care to our community. \nWalk in memory\, in gratitude\, or simply because you believe everyone deserves comfort and dignity at the end of life. \nTogether\, we can turn steps into support and ensure hospice care is here\, close to home\, when it matters most. \nRegister now!\nCan’t hike? Consider donating instead.\nBecome a sponsor\nVolunteer to help with the hike
URL:https://northhaltonhospice.ca/event/hike-for-hospice/
ATTACH;FMTTYPE=image/png:https://northhaltonhospice.ca/wp-content/uploads/2026/03/Screenshot-2026-03-06-at-10.58.05-PM.png
END:VEVENT
BEGIN:VEVENT
DTSTART;TZID=America/Toronto:20260521T173000
DTEND;TZID=America/Toronto:20260521T173000
DTSTAMP:20260422T064023
CREATED:20260307T033046Z
LAST-MODIFIED:20260307T034956Z
UID:10002049-1779384600-1779384600@northhaltonhospice.ca
SUMMARY:CFHN's Legacy Honours Evening
DESCRIPTION:Join Us for the Community Foundation of Halton North’s Legacy Honours Evening! \nThe CFHN Legacy Honours Evening honours a Transformational Canadian each year\, from a wide variety of fields. We are thrilled to honour Mayor Gordon Krantz in 2026. Mayor Krantz has dedicated his entire life to support his community and improve the lives of others. \n“A transformational leader is someone who inspires and motivates others to achieve extraordinary outcomes by creating a compelling vision and fostering a culture of innovation and growth. They challenge the status quo\, embrace change\, and encourage creative thinking to overcome challenges and drive progress.” \nGord and CFHN recognize the importance of maintaining the vitality of our community — proceeds from the 2026 CFHN Legacy Honours Evening will contribute to endowments to support Hospice through the Townsend Smith Foundation and to support The Darling Home for Kids. \nPurchase tickets here
URL:https://northhaltonhospice.ca/event/cfhns-legacy-honours-evening/
LOCATION:Granite Ridge Golf Club\, 9503 Dublin Line\, Milton\, Canada
ATTACH;FMTTYPE=image/png:https://northhaltonhospice.ca/wp-content/uploads/2026/03/Screenshot-2026-03-06-at-10.22.19-PM.png
END:VEVENT
BEGIN:VEVENT
DTSTART;VALUE=DATE:20260530
DTEND;VALUE=DATE:20260531
DTSTAMP:20260422T064023
CREATED:20260407T170350Z
LAST-MODIFIED:20260407T173755Z
UID:10002056-1780099200-1780185599@northhaltonhospice.ca
SUMMARY:Clothing for a Cause
DESCRIPTION:Save the date – Clothing for a Cause hosted by the Elaine’s Jones team is back for the 4th year on Saturday\, May 30th! \n  \nThe Elaine Jones Team is back and ready to make a difference! Help them by donating your gently used or new with tags clothing and branded handbags for the Townsend Smith Foundation. \n\nAll bags to be labelled XXS – XXL\nLadies clothes only please!\nCollections have begun and will continue until the limit is reached.\nPlease note: no shoes\, swimwear\, or personal items please!\n\n  \nThe drop-off location is Maurice’s in the Georgetown Mall. If you need a pick-up\, please reach out to the Elaine Jones Team to coordinate!
URL:https://northhaltonhospice.ca/event/clothing-for-a-cause/
ATTACH;FMTTYPE=image/png:https://northhaltonhospice.ca/wp-content/uploads/2026/04/Screenshot-2026-04-07-at-1.05.14-PM.png
END:VEVENT
END:VCALENDAR