BEGIN:VCALENDAR
VERSION:2.0
PRODID:-//North Halton Hospice - ECPv6.15.20//NONSGML v1.0//EN
CALSCALE:GREGORIAN
METHOD:PUBLISH
X-WR-CALNAME:North Halton Hospice
X-ORIGINAL-URL:https://northhaltonhospice.ca
X-WR-CALDESC:Events for North Halton Hospice
REFRESH-INTERVAL;VALUE=DURATION:PT1H
X-Robots-Tag:noindex
X-PUBLISHED-TTL:PT1H
BEGIN:VTIMEZONE
TZID:America/Toronto
BEGIN:DAYLIGHT
TZOFFSETFROM:-0500
TZOFFSETTO:-0400
TZNAME:EDT
DTSTART:20250309T070000
END:DAYLIGHT
BEGIN:STANDARD
TZOFFSETFROM:-0400
TZOFFSETTO:-0500
TZNAME:EST
DTSTART:20251102T060000
END:STANDARD
BEGIN:DAYLIGHT
TZOFFSETFROM:-0500
TZOFFSETTO:-0400
TZNAME:EDT
DTSTART:20260308T070000
END:DAYLIGHT
BEGIN:STANDARD
TZOFFSETFROM:-0400
TZOFFSETTO:-0500
TZNAME:EST
DTSTART:20261101T060000
END:STANDARD
BEGIN:DAYLIGHT
TZOFFSETFROM:-0500
TZOFFSETTO:-0400
TZNAME:EDT
DTSTART:20270314T070000
END:DAYLIGHT
BEGIN:STANDARD
TZOFFSETFROM:-0400
TZOFFSETTO:-0500
TZNAME:EST
DTSTART:20271107T060000
END:STANDARD
END:VTIMEZONE
BEGIN:VEVENT
DTSTART;TZID=America/Toronto:20260613T080000
DTEND;TZID=America/Toronto:20260613T120000
DTSTAMP:20260420T070034
CREATED:20260317T201657Z
LAST-MODIFIED:20260317T201817Z
UID:10002052-1781337600-1781352000@northhaltonhospice.ca
SUMMARY:Milton Farmers' Market
DESCRIPTION:The Townsend Smith Foundation will be at the Milton Farmers’ Market this summer! \nDrop by to meet our team\, say hi\, learn more about our events and mission\, stay updated on fundraising progress\, and learn about the ways that you can get involved with us. \nTSF will be at the Market on Saturday\, June 13th\, 2026 and Saturday\, June 27th\, 2026.
URL:https://northhaltonhospice.ca/event/milton-farmers-market-2/2026-06-13/
LOCATION:Main Street\, Milton
ATTACH;FMTTYPE=image/png:https://northhaltonhospice.ca/wp-content/uploads/2026/03/Screenshot-2026-03-17-at-4.08.06-PM.png
END:VEVENT
BEGIN:VEVENT
DTSTART;TZID=America/Toronto:20260627T080000
DTEND;TZID=America/Toronto:20260627T120000
DTSTAMP:20260420T070034
CREATED:20260317T201657Z
LAST-MODIFIED:20260317T201817Z
UID:10002053-1782547200-1782561600@northhaltonhospice.ca
SUMMARY:Milton Farmers' Market
DESCRIPTION:The Townsend Smith Foundation will be at the Milton Farmers’ Market this summer! \nDrop by to meet our team\, say hi\, learn more about our events and mission\, stay updated on fundraising progress\, and learn about the ways that you can get involved with us. \nTSF will be at the Market on Saturday\, June 13th\, 2026 and Saturday\, June 27th\, 2026.
URL:https://northhaltonhospice.ca/event/milton-farmers-market-2/2026-06-27/
LOCATION:Main Street\, Milton
ATTACH;FMTTYPE=image/png:https://northhaltonhospice.ca/wp-content/uploads/2026/03/Screenshot-2026-03-17-at-4.08.06-PM.png
END:VEVENT
END:VCALENDAR