BEGIN:VCALENDAR
VERSION:2.0
PRODID:-//North Halton Hospice - ECPv6.15.20//NONSGML v1.0//EN
CALSCALE:GREGORIAN
METHOD:PUBLISH
X-WR-CALNAME:North Halton Hospice
X-ORIGINAL-URL:https://northhaltonhospice.ca
X-WR-CALDESC:Events for North Halton Hospice
REFRESH-INTERVAL;VALUE=DURATION:PT1H
X-Robots-Tag:noindex
X-PUBLISHED-TTL:PT1H
BEGIN:VTIMEZONE
TZID:America/Toronto
BEGIN:DAYLIGHT
TZOFFSETFROM:-0500
TZOFFSETTO:-0400
TZNAME:EDT
DTSTART:20250309T070000
END:DAYLIGHT
BEGIN:STANDARD
TZOFFSETFROM:-0400
TZOFFSETTO:-0500
TZNAME:EST
DTSTART:20251102T060000
END:STANDARD
BEGIN:DAYLIGHT
TZOFFSETFROM:-0500
TZOFFSETTO:-0400
TZNAME:EDT
DTSTART:20260308T070000
END:DAYLIGHT
BEGIN:STANDARD
TZOFFSETFROM:-0400
TZOFFSETTO:-0500
TZNAME:EST
DTSTART:20261101T060000
END:STANDARD
BEGIN:DAYLIGHT
TZOFFSETFROM:-0500
TZOFFSETTO:-0400
TZNAME:EDT
DTSTART:20270314T070000
END:DAYLIGHT
BEGIN:STANDARD
TZOFFSETFROM:-0400
TZOFFSETTO:-0500
TZNAME:EST
DTSTART:20271107T060000
END:STANDARD
END:VTIMEZONE
BEGIN:VEVENT
DTSTART;TZID=America/Toronto:20260501T173000
DTEND;TZID=America/Toronto:20260501T173000
DTSTAMP:20260420T063426
CREATED:20260307T025458Z
LAST-MODIFIED:20260407T174120Z
UID:10002047-1777656600-1777656600@northhaltonhospice.ca
SUMMARY:Rotary Club of Acton's Spring Gala
DESCRIPTION:Tickets are now available for Rotary Club of Acton Ontario’s annual Spring Gala Tapas Dinner\, live and silent auction in support of the Townsend Smith Foundation and local rotary causes! Join us for a very fun night. \nTickets are $75 and are available for purchase:\n– at Acton Optical (cash or cheque)\,\n– through E-Transfer to rotaryacton@gmail.com (please include names of all guests)\n– through Credit Card (additional handling fees applied). \nPurchase tickets here
URL:https://northhaltonhospice.ca/event/spring/
LOCATION:Acton Town Hall Center\, 19 Willow Street North\, Acton\, ON\, L7J 1Z6\, Canada
ATTACH;FMTTYPE=image/png:https://northhaltonhospice.ca/wp-content/uploads/2026/03/Screenshot-2026-03-06-at-9.57.58-PM.png
ORGANIZER;CN="Acton Rotary":MAILTO:ActonRotary@Hotmail.com
END:VEVENT
END:VCALENDAR