BEGIN:VCALENDAR
VERSION:2.0
PRODID:-//North Halton Hospice - ECPv6.15.20//NONSGML v1.0//EN
CALSCALE:GREGORIAN
METHOD:PUBLISH
X-ORIGINAL-URL:https://northhaltonhospice.ca
X-WR-CALDESC:Events for North Halton Hospice
REFRESH-INTERVAL;VALUE=DURATION:PT1H
X-Robots-Tag:noindex
X-PUBLISHED-TTL:PT1H
BEGIN:VTIMEZONE
TZID:America/Toronto
BEGIN:DAYLIGHT
TZOFFSETFROM:-0500
TZOFFSETTO:-0400
TZNAME:EDT
DTSTART:20250309T070000
END:DAYLIGHT
BEGIN:STANDARD
TZOFFSETFROM:-0400
TZOFFSETTO:-0500
TZNAME:EST
DTSTART:20251102T060000
END:STANDARD
BEGIN:DAYLIGHT
TZOFFSETFROM:-0500
TZOFFSETTO:-0400
TZNAME:EDT
DTSTART:20260308T070000
END:DAYLIGHT
BEGIN:STANDARD
TZOFFSETFROM:-0400
TZOFFSETTO:-0500
TZNAME:EST
DTSTART:20261101T060000
END:STANDARD
BEGIN:DAYLIGHT
TZOFFSETFROM:-0500
TZOFFSETTO:-0400
TZNAME:EDT
DTSTART:20270314T070000
END:DAYLIGHT
BEGIN:STANDARD
TZOFFSETFROM:-0400
TZOFFSETTO:-0500
TZNAME:EST
DTSTART:20271107T060000
END:STANDARD
END:VTIMEZONE
BEGIN:VEVENT
DTSTART;TZID=America/Toronto:20260419T140000
DTEND;TZID=America/Toronto:20260419T160000
DTSTAMP:20260420T082312
CREATED:20260312T182512Z
LAST-MODIFIED:20260312T195840Z
UID:10002051-1776607200-1776614400@northhaltonhospice.ca
SUMMARY:What Matters Most to You?
DESCRIPTION:TSF partners with Anne Stewart\, Registered Social Service Worker & End-of-Life Doula and owner of Holding Space Halton\, to host a free in-person Advance Care Planning Workshop: What Matters Most to You? \n \nAdvance care planning encourages you to reflect on what is most important in your life and communicate your wishes with the people close to you\, so they can help ensure the care you receive aligns with your preferences should you not be able to communicate them. \nYou will receive a free printed copy of the Advance Care Planning Workbook. \n*Registration is required as spots are limited. \nRegister here
URL:https://northhaltonhospice.ca/event/what-matters-most-to-you/
LOCATION:Hillcrest Church\, 8958 Trafalgar Rd\, Georgetown\, Ontario\, Canada
ATTACH;FMTTYPE=image/png:https://northhaltonhospice.ca/wp-content/uploads/2026/03/Screenshot-2026-03-12-at-2.27.21-PM.png
END:VEVENT
END:VCALENDAR