BEGIN:VCALENDAR
VERSION:2.0
PRODID:-//North Halton Hospice - ECPv6.15.20//NONSGML v1.0//EN
CALSCALE:GREGORIAN
METHOD:PUBLISH
X-WR-CALNAME:North Halton Hospice
X-ORIGINAL-URL:https://northhaltonhospice.ca
X-WR-CALDESC:Events for North Halton Hospice
REFRESH-INTERVAL;VALUE=DURATION:PT1H
X-Robots-Tag:noindex
X-PUBLISHED-TTL:PT1H
BEGIN:VTIMEZONE
TZID:America/Toronto
BEGIN:DAYLIGHT
TZOFFSETFROM:-0500
TZOFFSETTO:-0400
TZNAME:EDT
DTSTART:20210314T070000
END:DAYLIGHT
BEGIN:STANDARD
TZOFFSETFROM:-0400
TZOFFSETTO:-0500
TZNAME:EST
DTSTART:20211107T060000
END:STANDARD
BEGIN:DAYLIGHT
TZOFFSETFROM:-0500
TZOFFSETTO:-0400
TZNAME:EDT
DTSTART:20220313T070000
END:DAYLIGHT
BEGIN:STANDARD
TZOFFSETFROM:-0400
TZOFFSETTO:-0500
TZNAME:EST
DTSTART:20221106T060000
END:STANDARD
BEGIN:DAYLIGHT
TZOFFSETFROM:-0500
TZOFFSETTO:-0400
TZNAME:EDT
DTSTART:20230312T070000
END:DAYLIGHT
BEGIN:STANDARD
TZOFFSETFROM:-0400
TZOFFSETTO:-0500
TZNAME:EST
DTSTART:20231105T060000
END:STANDARD
END:VTIMEZONE
BEGIN:VEVENT
DTSTART;VALUE=DATE:20221015
DTEND;VALUE=DATE:20221023
DTSTAMP:20260421T070623
CREATED:20221010T222525Z
LAST-MODIFIED:20221010T222525Z
UID:10000094-1665792000-1666483199@northhaltonhospice.ca
SUMMARY:Andrews Farm and Winery Pumpkin Fest
DESCRIPTION:Join us for Pumpkin Fest October 15-22 at Andrews Farm and Winery 9365 10 Side Road\, Milton\, ON.\n\n\n \n\n\nEnjoy the pumpkin patches\, corn mazes\, fresh baked goods\, and much more! A portion of the pumpkin sale proceeds will go to Townsend Smith Foundation.\n\n\n⁠\n\n\nVisit https://www.andrewsscenicacres.com for more details.⁠
URL:https://northhaltonhospice.ca/event/andrews-farm-and-winery-pumpkin-fest/
LOCATION:Andrews Farm and Winery\, 9365 10 Side Road\, Milton\, ON
CATEGORIES:Event
ATTACH;FMTTYPE=image/jpeg:https://northhaltonhospice.ca/wp-content/uploads/2022/10/pumpkin.jpg
END:VEVENT
END:VCALENDAR