BEGIN:VCALENDAR
VERSION:2.0
PRODID:-//North Halton Hospice - ECPv6.15.20//NONSGML v1.0//EN
CALSCALE:GREGORIAN
METHOD:PUBLISH
X-ORIGINAL-URL:https://northhaltonhospice.ca
X-WR-CALDESC:Events for North Halton Hospice
REFRESH-INTERVAL;VALUE=DURATION:PT1H
X-Robots-Tag:noindex
X-PUBLISHED-TTL:PT1H
BEGIN:VTIMEZONE
TZID:America/Toronto
BEGIN:DAYLIGHT
TZOFFSETFROM:-0500
TZOFFSETTO:-0400
TZNAME:EDT
DTSTART:20250309T070000
END:DAYLIGHT
BEGIN:STANDARD
TZOFFSETFROM:-0400
TZOFFSETTO:-0500
TZNAME:EST
DTSTART:20251102T060000
END:STANDARD
BEGIN:DAYLIGHT
TZOFFSETFROM:-0500
TZOFFSETTO:-0400
TZNAME:EDT
DTSTART:20260308T070000
END:DAYLIGHT
BEGIN:STANDARD
TZOFFSETFROM:-0400
TZOFFSETTO:-0500
TZNAME:EST
DTSTART:20261101T060000
END:STANDARD
BEGIN:DAYLIGHT
TZOFFSETFROM:-0500
TZOFFSETTO:-0400
TZNAME:EDT
DTSTART:20270314T070000
END:DAYLIGHT
BEGIN:STANDARD
TZOFFSETFROM:-0400
TZOFFSETTO:-0500
TZNAME:EST
DTSTART:20271107T060000
END:STANDARD
END:VTIMEZONE
BEGIN:VEVENT
DTSTART;TZID=America/Toronto:20260606T120000
DTEND;TZID=America/Toronto:20260606T200000
DTSTAMP:20260420T082323
CREATED:20260407T165327Z
LAST-MODIFIED:20260407T165327Z
UID:10002055-1780747200-1780776000@northhaltonhospice.ca
SUMMARY:Downtown Milton SummerFest
DESCRIPTION:Downtown Milton SummerFest is happening on Saturday\, June 6th\, and the Townsend Smith Foundation will be a charity vendor at the event this year! \nHosted by the Downtown Milton Business Improvement Area\, with support from the Town of Milton\, the event features local businesses and vendors\, live entertainment\, family fun and more! Main St. will be closed for the event. \nCome on downtown to say hi to our team\, learn more about our mission\, and learn ways in which you can stay connected and get involved.
URL:https://northhaltonhospice.ca/event/dt-milton-summerfest/
LOCATION:Downtown Milton\, Main Street E\, Milton\, ON\, Canada
ATTACH;FMTTYPE=image/png:https://northhaltonhospice.ca/wp-content/uploads/2026/04/Screenshot-2026-04-07-at-12.49.05-PM.png
END:VEVENT
END:VCALENDAR