BEGIN:VCALENDAR
VERSION:2.0
PRODID:-//North Halton Hospice - ECPv6.15.20//NONSGML v1.0//EN
CALSCALE:GREGORIAN
METHOD:PUBLISH
X-ORIGINAL-URL:https://northhaltonhospice.ca
X-WR-CALDESC:Events for North Halton Hospice
REFRESH-INTERVAL;VALUE=DURATION:PT1H
X-Robots-Tag:noindex
X-PUBLISHED-TTL:PT1H
BEGIN:VTIMEZONE
TZID:America/Toronto
BEGIN:DAYLIGHT
TZOFFSETFROM:-0500
TZOFFSETTO:-0400
TZNAME:EDT
DTSTART:20210314T070000
END:DAYLIGHT
BEGIN:STANDARD
TZOFFSETFROM:-0400
TZOFFSETTO:-0500
TZNAME:EST
DTSTART:20211107T060000
END:STANDARD
BEGIN:DAYLIGHT
TZOFFSETFROM:-0500
TZOFFSETTO:-0400
TZNAME:EDT
DTSTART:20220313T070000
END:DAYLIGHT
BEGIN:STANDARD
TZOFFSETFROM:-0400
TZOFFSETTO:-0500
TZNAME:EST
DTSTART:20221106T060000
END:STANDARD
BEGIN:DAYLIGHT
TZOFFSETFROM:-0500
TZOFFSETTO:-0400
TZNAME:EDT
DTSTART:20230312T070000
END:DAYLIGHT
BEGIN:STANDARD
TZOFFSETFROM:-0400
TZOFFSETTO:-0500
TZNAME:EST
DTSTART:20231105T060000
END:STANDARD
END:VTIMEZONE
BEGIN:VEVENT
DTSTART;TZID=America/Toronto:20221020T093000
DTEND;TZID=America/Toronto:20221020T113000
DTSTAMP:20260421T044955
CREATED:20220808T214838Z
LAST-MODIFIED:20221104T204307Z
UID:10000086-1666258200-1666265400@northhaltonhospice.ca
SUMMARY:Cultural Considerations at End-Of-Life
DESCRIPTION:Themes:\nGaining knowledge and understanding: \n\nTalking about dying in a Culturally Sensitive Way\nRituals on the end-of-life journey\, at time of death and post death\nHow grief is expressed in various Faiths and Cultures\nSupporting families through the grief journey\n\nPanelists: \n\nHarmohan Singh Parmar\, Trust Secretary\, Halton Sikh Cultural Association\nRabbi Stephen Wise\, Shaarie-Beth El Congregation\, Halton\nDaood Butt\, Islamic Community Centre of Milton\nRev. Steve Boose\, Knox Presbyterian Church/Limehouse Presbyterian Church
URL:https://northhaltonhospice.ca/event/cultural-considerations-at-end-of-life/
LOCATION:Gellert Community Centre\, 10241 Eighth Line\, Georgetown\, ON\, L7G 4S5
CATEGORIES:Presentation
END:VEVENT
END:VCALENDAR