BEGIN:VCALENDAR
VERSION:2.0
PRODID:-//North Halton Hospice - ECPv6.15.20//NONSGML v1.0//EN
CALSCALE:GREGORIAN
METHOD:PUBLISH
X-WR-CALNAME:North Halton Hospice
X-ORIGINAL-URL:https://northhaltonhospice.ca
X-WR-CALDESC:Events for North Halton Hospice
REFRESH-INTERVAL;VALUE=DURATION:PT1H
X-Robots-Tag:noindex
X-PUBLISHED-TTL:PT1H
BEGIN:VTIMEZONE
TZID:America/Toronto
BEGIN:DAYLIGHT
TZOFFSETFROM:-0500
TZOFFSETTO:-0400
TZNAME:EDT
DTSTART:20200308T070000
END:DAYLIGHT
BEGIN:STANDARD
TZOFFSETFROM:-0400
TZOFFSETTO:-0500
TZNAME:EST
DTSTART:20201101T060000
END:STANDARD
BEGIN:DAYLIGHT
TZOFFSETFROM:-0500
TZOFFSETTO:-0400
TZNAME:EDT
DTSTART:20210314T070000
END:DAYLIGHT
BEGIN:STANDARD
TZOFFSETFROM:-0400
TZOFFSETTO:-0500
TZNAME:EST
DTSTART:20211107T060000
END:STANDARD
BEGIN:DAYLIGHT
TZOFFSETFROM:-0500
TZOFFSETTO:-0400
TZNAME:EDT
DTSTART:20220313T070000
END:DAYLIGHT
BEGIN:STANDARD
TZOFFSETFROM:-0400
TZOFFSETTO:-0500
TZNAME:EST
DTSTART:20221106T060000
END:STANDARD
END:VTIMEZONE
BEGIN:VEVENT
DTSTART;TZID=America/Toronto:20211007T190000
DTEND;TZID=America/Toronto:20211007T200000
DTSTAMP:20260421T172929
CREATED:20210929T195455Z
LAST-MODIFIED:20211015T001400Z
UID:10000079-1633633200-1633636800@northhaltonhospice.ca
SUMMARY:Candle Lighting Ceremony 2021
DESCRIPTION:Please join us on Thursday October 7th at 7:00 PM at the Italian Cultural Centre of Milton for a candle lighting ceremony to honour those who have sought hospice care in their community and to express support for access to residential hospice palliative care in North Halton. \nThe ceremony will include readings about hospice care\, live music and lighting of votive candles with personal intentions supporting access to hospice care for the residents of North Halton. \nAll welcome and registration is free.
URL:https://northhaltonhospice.ca/event/candlelight-ceremony-2021/
LOCATION:Italian Cultural Centre of Milton\, 104 Tremaine Rd\, Milton\, Ontario\, L9T 2W9\, Canada
CATEGORIES:Event
END:VEVENT
END:VCALENDAR