BEGIN:VCALENDAR
VERSION:2.0
PRODID:-//North Halton Hospice - ECPv6.15.20//NONSGML v1.0//EN
CALSCALE:GREGORIAN
METHOD:PUBLISH
X-ORIGINAL-URL:https://northhaltonhospice.ca
X-WR-CALDESC:Events for North Halton Hospice
REFRESH-INTERVAL;VALUE=DURATION:PT1H
X-Robots-Tag:noindex
X-PUBLISHED-TTL:PT1H
BEGIN:VTIMEZONE
TZID:America/Toronto
BEGIN:DAYLIGHT
TZOFFSETFROM:-0500
TZOFFSETTO:-0400
TZNAME:EDT
DTSTART:20220313T070000
END:DAYLIGHT
BEGIN:STANDARD
TZOFFSETFROM:-0400
TZOFFSETTO:-0500
TZNAME:EST
DTSTART:20221106T060000
END:STANDARD
BEGIN:DAYLIGHT
TZOFFSETFROM:-0500
TZOFFSETTO:-0400
TZNAME:EDT
DTSTART:20230312T070000
END:DAYLIGHT
BEGIN:STANDARD
TZOFFSETFROM:-0400
TZOFFSETTO:-0500
TZNAME:EST
DTSTART:20231105T060000
END:STANDARD
BEGIN:DAYLIGHT
TZOFFSETFROM:-0500
TZOFFSETTO:-0400
TZNAME:EDT
DTSTART:20240310T070000
END:DAYLIGHT
BEGIN:STANDARD
TZOFFSETFROM:-0400
TZOFFSETTO:-0500
TZNAME:EST
DTSTART:20241103T060000
END:STANDARD
END:VTIMEZONE
BEGIN:VEVENT
DTSTART;VALUE=DATE:20230811
DTEND;VALUE=DATE:20230814
DTSTAMP:20260421T043108
CREATED:20230430T002229Z
LAST-MODIFIED:20230613T193142Z
UID:10000111-1691712000-1691971199@northhaltonhospice.ca
SUMMARY:Lions’ Wish Slo-Pitch Tournament
DESCRIPTION:Lions’ Wish is looking for both fun and competitive co-ed baseball teams to enter their tournament. There will be a beer tent\, food trucks\, silent auction\, raffle and live entertainment. This event was previously known as the Leslie Wells Slo-Pitch Tournament\, it has been running since 1996. The tournament is in support of Townsend Smith Foundation. \nTo register email LWSPmilton@gmail.com \nEvent Details: Lions Park in Milton on August 11th – August 13th.
URL:https://northhaltonhospice.ca/event/leslie-wells-slo-pitch-tournament/
LOCATION:Lions Park in Milton\, 99 Thompson Rd S\, Milton\, Ontario
CATEGORIES:Event
ATTACH;FMTTYPE=image/png:https://northhaltonhospice.ca/wp-content/uploads/2023/04/Events-Callouts-1.png
END:VEVENT
END:VCALENDAR