BEGIN:VCALENDAR
VERSION:2.0
PRODID:-//North Halton Hospice - ECPv6.15.20//NONSGML v1.0//EN
CALSCALE:GREGORIAN
METHOD:PUBLISH
X-WR-CALNAME:North Halton Hospice
X-ORIGINAL-URL:https://northhaltonhospice.ca
X-WR-CALDESC:Events for North Halton Hospice
REFRESH-INTERVAL;VALUE=DURATION:PT1H
X-Robots-Tag:noindex
X-PUBLISHED-TTL:PT1H
BEGIN:VTIMEZONE
TZID:America/Toronto
BEGIN:DAYLIGHT
TZOFFSETFROM:-0500
TZOFFSETTO:-0400
TZNAME:EDT
DTSTART:20210314T070000
END:DAYLIGHT
BEGIN:STANDARD
TZOFFSETFROM:-0400
TZOFFSETTO:-0500
TZNAME:EST
DTSTART:20211107T060000
END:STANDARD
BEGIN:DAYLIGHT
TZOFFSETFROM:-0500
TZOFFSETTO:-0400
TZNAME:EDT
DTSTART:20220313T070000
END:DAYLIGHT
BEGIN:STANDARD
TZOFFSETFROM:-0400
TZOFFSETTO:-0500
TZNAME:EST
DTSTART:20221106T060000
END:STANDARD
BEGIN:DAYLIGHT
TZOFFSETFROM:-0500
TZOFFSETTO:-0400
TZNAME:EDT
DTSTART:20230312T070000
END:DAYLIGHT
BEGIN:STANDARD
TZOFFSETFROM:-0400
TZOFFSETTO:-0500
TZNAME:EST
DTSTART:20231105T060000
END:STANDARD
END:VTIMEZONE
BEGIN:VEVENT
DTSTART;TZID=America/Toronto:20221007T110000
DTEND;TZID=America/Toronto:20221007T113000
DTSTAMP:20260421T104651
CREATED:20220929T195936Z
LAST-MODIFIED:20220929T203301Z
UID:10000092-1665140400-1665142200@northhaltonhospice.ca
SUMMARY:Flag Raising Ceremony - Milton
DESCRIPTION:Join us for a Townsend Smith Foundation Flag Raising on Thursday Oct 6th at 11:00 AM at the Halton Hills Town Hall\, or Friday Oct 7th at 11:00AM at the Milton Town Hall. We will raise a flag to honour World Hospice Palliative Care Day. Please attend to support the building of a local hospice.
URL:https://northhaltonhospice.ca/event/flag-raising-ceremony-milton/
LOCATION:Milton Town Hall
CATEGORIES:Event
ATTACH;FMTTYPE=image/png:https://northhaltonhospice.ca/wp-content/uploads/2022/09/Flag-Raising-Event.png
END:VEVENT
END:VCALENDAR