BEGIN:VCALENDAR
VERSION:2.0
PRODID:-//North Halton Hospice - ECPv6.15.20//NONSGML v1.0//EN
CALSCALE:GREGORIAN
METHOD:PUBLISH
X-WR-CALNAME:North Halton Hospice
X-ORIGINAL-URL:https://northhaltonhospice.ca
X-WR-CALDESC:Events for North Halton Hospice
REFRESH-INTERVAL;VALUE=DURATION:PT1H
X-Robots-Tag:noindex
X-PUBLISHED-TTL:PT1H
BEGIN:VTIMEZONE
TZID:America/Toronto
BEGIN:DAYLIGHT
TZOFFSETFROM:-0500
TZOFFSETTO:-0400
TZNAME:EDT
DTSTART:20230312T070000
END:DAYLIGHT
BEGIN:STANDARD
TZOFFSETFROM:-0400
TZOFFSETTO:-0500
TZNAME:EST
DTSTART:20231105T060000
END:STANDARD
BEGIN:DAYLIGHT
TZOFFSETFROM:-0500
TZOFFSETTO:-0400
TZNAME:EDT
DTSTART:20240310T070000
END:DAYLIGHT
BEGIN:STANDARD
TZOFFSETFROM:-0400
TZOFFSETTO:-0500
TZNAME:EST
DTSTART:20241103T060000
END:STANDARD
BEGIN:DAYLIGHT
TZOFFSETFROM:-0500
TZOFFSETTO:-0400
TZNAME:EDT
DTSTART:20250309T070000
END:DAYLIGHT
BEGIN:STANDARD
TZOFFSETFROM:-0400
TZOFFSETTO:-0500
TZNAME:EST
DTSTART:20251102T060000
END:STANDARD
BEGIN:DAYLIGHT
TZOFFSETFROM:-0500
TZOFFSETTO:-0400
TZNAME:EDT
DTSTART:20260308T070000
END:DAYLIGHT
BEGIN:STANDARD
TZOFFSETFROM:-0400
TZOFFSETTO:-0500
TZNAME:EST
DTSTART:20261101T060000
END:STANDARD
BEGIN:DAYLIGHT
TZOFFSETFROM:-0500
TZOFFSETTO:-0400
TZNAME:EDT
DTSTART:20270314T070000
END:DAYLIGHT
BEGIN:STANDARD
TZOFFSETFROM:-0400
TZOFFSETTO:-0500
TZNAME:EST
DTSTART:20271107T060000
END:STANDARD
END:VTIMEZONE
BEGIN:VEVENT
DTSTART;TZID=America/Toronto:20260411T193000
DTEND;TZID=America/Toronto:20260411T213000
DTSTAMP:20260422T083356
CREATED:20260307T024000Z
LAST-MODIFIED:20260307T024349Z
UID:10002046-1775935800-1775943000@northhaltonhospice.ca
SUMMARY:The Sanctuary Concert Hall presents Adam James
DESCRIPTION:The Sanctuary Concert Hall presents a concert in support of St. John’s and the Townsend Smith Foundation\, featuring Adam James and friends. \nWhen pianist Robi Botos—Juno Award winner\, the last protégé of Oscar Peterson\, winner of the Montreux Jazz Festival Piano Competition\, and a virtuoso who makes 88 keys sound like an orchestra—agreed to play with a singer for the first time in years\, it wasn’t a casual decision. When vocalist Adam James—personally chosen by Quincy Jones as “the best” Sinatra interpreter he’s ever seen\, hand-picked by the Sinatra family to embody their father’s legacy\, and a performer who’s commanded stages from New York’s Birdland to sold-out symphony halls—is making the journey back from Hollywood\, it’s not for just another gig. This is what happens when two artists at the absolute peak of their powers\, each a master of their craft with international reputations that precede them\, decide to see what happens when they finally share the same stage for an entire evening. On April 11\, 2026\, at The Sanctuary Concert Hall in Adam’s hometown of Georgetown\, Ontario\, something extraordinary is about to happen. \nThis isn’t a typical jazz concert—it’s a first-time summit between forces of nature\, the kind of collaboration that happens maybe once in a generation when schedules align and egos step aside for something bigger. Botos brings the ferocious technique and lyrical soul he learned directly from Peterson himself\, while James brings the interpretive genius that made him the choice to share stages with Ray Charles\, Tony Bennett\, and Liza Minnelli. Backed by Toronto’s Ben Dwyer on bass\, this is a trio creating something that exists nowhere on any recording\, that can never be exactly replicated\, that you can only experience by being in the room when it happens. Whether you know every chord change or you’ve never been to a jazz show in your life\, you’ll feel it—that electricity when world-class artists push each other to places they’ve never been before. \nPurchase tickets here
URL:https://northhaltonhospice.ca/event/the-sanctuary-concert-hall-presents-adam-james/
LOCATION:The Sanctuary Concert Hall\, 11 Guelph Street\, Halton Hills
ATTACH;FMTTYPE=image/png:https://northhaltonhospice.ca/wp-content/uploads/2026/03/Screenshot-2026-03-06-at-9.31.39-PM.png
END:VEVENT
BEGIN:VEVENT
DTSTART;TZID=America/Toronto:20260307T193000
DTEND;TZID=America/Toronto:20260307T213000
DTSTAMP:20260422T083356
CREATED:20260307T021335Z
LAST-MODIFIED:20260307T024507Z
UID:10002045-1772911800-1772919000@northhaltonhospice.ca
SUMMARY:The Sanctuary Concert Hall presents Leah Holtom
DESCRIPTION:The Sanctuary Concert Hall presents a concert in support of St. John’s and the Townsend Smith Foundation\, featuring Leah Holtom. \n \nAward-winning folk singer/songwriter Leah Holtom grew up in Brampton\, Ontario\, and now thrives in Toronto’s vibrant music scene. Her music sits at the intersection of folk and country\, shaped by thoughtful storytelling\, soulful acoustic arrangements\, and a voice that carries both strength and vulnerability. Her songs reflect everyday moments and shared experience\, balancing intimacy with lightness. Known for her tender yet soaring vocals\, Leah captivates listeners into an experience that is deeply personal and rooted in community. In 2024\, Leah received the Colleen Peterson Songwriting Award from the Ontario Arts Council for her debut single\, “Face The Day.” Her rich\, emotive sound is further showcased on her debut EP\, Patchwork. \nBeer & wine available for sale \nPurchase tickets here\n  \n  \n 
URL:https://northhaltonhospice.ca/event/tsch-leah-holtom/
LOCATION:The Sanctuary Concert Hall\, 11 Guelph Street\, Halton Hills
ATTACH;FMTTYPE=image/png:https://northhaltonhospice.ca/wp-content/uploads/2026/03/Screenshot-2026-03-06-at-9.01.48-PM.png
END:VEVENT
BEGIN:VEVENT
DTSTART;TZID=America/Toronto:20251004T193000
DTEND;TZID=America/Toronto:20251004T223000
DTSTAMP:20260422T083356
CREATED:20250504T141807Z
LAST-MODIFIED:20250504T141807Z
UID:10000173-1759606200-1759617000@northhaltonhospice.ca
SUMMARY:An Evening with Amy Sky
DESCRIPTION:One of Canada’s most beloved singer/songwriters brings her amazing repertoire to The Sanctuary Concert Hall in the heart of Georgetown! With hit songs like “I Will Take Care of You” and “Ordinary Miracles”\, this prolific artist has co-written and produced music with many international stars including Anne Murray\, Reba McEntire\, Diana Ross\, Heart\, Belinda Carlisle\, Melissa Manchester\, Cliff Richard\, Aaron Neville\, Roch Voisine and most notably\, Olivia Newton-John. \nWinner of three SOCAN awards\, Amy has also been nominated for four Juno Awards.  Her song” Love Never Fails” was included on the 2009 Grammy nominated New Age Album “Faith” by Jim Brickman.  Amy Sky is “must see” at TSCH. \nBeer & wine available for sale \nBUY TICKETS
URL:https://northhaltonhospice.ca/event/an-evening-with-amy-sky/
LOCATION:The Sanctuary Concert Hall\, 11 Guelph Street\, Halton Hills
CATEGORIES:Event
ATTACH;FMTTYPE=image/jpeg:https://northhaltonhospice.ca/wp-content/uploads/2025/05/amy.jpg
END:VEVENT
BEGIN:VEVENT
DTSTART;TZID=America/Toronto:20250906T193000
DTEND;TZID=America/Toronto:20250906T223000
DTSTAMP:20260422T083356
CREATED:20250504T141427Z
LAST-MODIFIED:20250504T141427Z
UID:10000172-1757187000-1757197800@northhaltonhospice.ca
SUMMARY:Liverpool Sessions - presented by Stewart's Equipment
DESCRIPTION:Presenting sponsor Stewart’s Equipment\, brings Liverpool Sessions – “the Beatles from studio to stage”\, to The Sanctuary Concert Hall stage for one performance\, Sat.\, Sept. 6th.  This nine piece ensemble will thrill you with the sights and sounds from this very special period in Beatles history we all love. Don’t miss out\, get your tickets now! \nBeer and wine are available for sale. \nBUY TICKETS
URL:https://northhaltonhospice.ca/event/liverpool-sessions-presented-by-stewarts-equipment/
LOCATION:The Sanctuary Concert Hall\, 11 Guelph Street\, Halton Hills
CATEGORIES:Event
ATTACH;FMTTYPE=image/jpeg:https://northhaltonhospice.ca/wp-content/uploads/2025/05/liverpool.jpg
END:VEVENT
BEGIN:VEVENT
DTSTART;TZID=America/Toronto:20250719T193000
DTEND;TZID=America/Toronto:20250719T223000
DTSTAMP:20260422T083356
CREATED:20250504T141026Z
LAST-MODIFIED:20250504T141026Z
UID:10000171-1752953400-1752964200@northhaltonhospice.ca
SUMMARY:Lights\, Love and Lyrics -The stars of "Come From Away" perform their favourite love songs from movies and musicals
DESCRIPTION:Cailin Stadnyk (the pilot Beverley) and David Sylvestre (Claude)\, both of the hit musical Come From Away\, will be performing with two of musicians from the show\, Richard Evans on piano and Jon Maharaj on bass.  Get ready to hear amazing renditions of songs from stage and screen when these two perform. “Their voices are amazing!”\, Lisa Horner\, producer. \nBUY TICKETS
URL:https://northhaltonhospice.ca/event/lights-love-and-lyrics-the-stars-of-come-from-away-perform-their-favourite-love-songs-from-movies-and-musicals/
LOCATION:The Sanctuary Concert Hall\, 11 Guelph Street\, Halton Hills
CATEGORIES:Event
ATTACH;FMTTYPE=image/jpeg:https://northhaltonhospice.ca/wp-content/uploads/2025/05/come.jpg
END:VEVENT
BEGIN:VEVENT
DTSTART;TZID=America/Toronto:20250607T193000
DTEND;TZID=America/Toronto:20250607T223000
DTSTAMP:20260422T083356
CREATED:20250503T123252Z
LAST-MODIFIED:20250503T123252Z
UID:10000170-1749324600-1749335400@northhaltonhospice.ca
SUMMARY:Fossil Rockers and the music of Anne Murray & Gordon Lightfoot
DESCRIPTION:Join us for a special evening with The Fossil Rockers\, as they take you on a musical journey through the timeless hits of Anne Murray and Gordon Lightfoot. From Anne’s soothing\, heartfelt ballads to Gordon’s legendary storytelling\, these two iconic Canadian artists have captured the hearts of millions around the world. Now\, The Fossil Rockers are bringing their magic to the stage with unforgettable renditions of these classics. \nBUY TICKETS
URL:https://northhaltonhospice.ca/event/fossil-rockers-and-the-music-of-anne-murray-gordon-lightfoot/
LOCATION:The Sanctuary Concert Hall\, 11 Guelph Street\, Halton Hills
CATEGORIES:Event
ATTACH;FMTTYPE=image/jpeg:https://northhaltonhospice.ca/wp-content/uploads/2025/05/ANNE.jpg
END:VEVENT
BEGIN:VEVENT
DTSTART;TZID=America/Toronto:20250510T193000
DTEND;TZID=America/Toronto:20250510T223000
DTSTAMP:20260422T083356
CREATED:20250503T122828Z
LAST-MODIFIED:20250503T122828Z
UID:10000169-1746905400-1746916200@northhaltonhospice.ca
SUMMARY:TSCH presents\, Adi Braun - Night And Day\, The Cole Porter Songbook
DESCRIPTION:Jazz singer and co-host of “Classical Mornings” on The New Classical 96.3 FM\, Adi Braun returns to intimate setting of The Sanctuary Concert Hall (TSCH) to perform her most recent release\, Night And Day\, The Cole Porter Songbook.  Adi is no stranger to St. John’s and TSCH having performed in this space during the Inspiring Spaces Series a few years ago.   \nThe material on Night And Day neatly showcases the broad emotional and musical range of Cole Porter’s work\, as exemplified in the title. Adi explains that “I find his songs illuminate different aspects of love\, in a fascinating way and range from light and bubbly romps to such powerfully emotional songs as “Love For Sale” and “In The Still Of The Night.”  Additionally\, a number of songs written by friends of Porter’s will highlighted in Adi’s performance. \nA limited number of reserved tables for 4 and 6 are available for this performance as well as general admission rush seating.  Beer & wine is also available for purchase.  Proceeds from this performance will support TSCH and the Townsend Smith Foundation in their efforts to build a hospice in North Halton. \nBUY TICKETS
URL:https://northhaltonhospice.ca/event/tsch-presents-adi-braun-night-and-day-the-cole-porter-songbook/
LOCATION:The Sanctuary Concert Hall\, 11 Guelph Street\, Halton Hills
CATEGORIES:Event
ATTACH;FMTTYPE=image/jpeg:https://northhaltonhospice.ca/wp-content/uploads/2025/05/adi.jpg
END:VEVENT
BEGIN:VEVENT
DTSTART;TZID=America/Toronto:20241216T193000
DTEND;TZID=America/Toronto:20241216T193000
DTSTAMP:20260422T083356
CREATED:20241118T171800Z
LAST-MODIFIED:20241118T171858Z
UID:10000155-1734377400-1734377400@northhaltonhospice.ca
SUMMARY:The Sounds of Christmas
DESCRIPTION:The 35 voices of the Senior Choir of St. John’s United Church of Georgetown and Glen Williams bring the Sounds Of Christmas alive in their annual choral presentation for the community. Admission is free to this event however\, new this year and to avoid overcrowding tickets are required.  Tickets are only available at the church office and can be picked up Monday\, Tuesday\, Thursday & Friday from 8:30am to 1:30pm (the office is closed Wednesdays) or to reserve your tickets please call the office – 905-877-2531 – during office hours.  Any remaining tickets will be available at the door on the day of the concert\, but chances are they will be very limited. \nEven though admission is free to this concert\, a free will offering to the Townsend Smith Foundation in support of building a hospice in North Halton would be appreciated.
URL:https://northhaltonhospice.ca/event/the-sounds-of-christmas/
LOCATION:The Sanctuary Concert Hall\, 11 Guelph Street\, Halton Hills
CATEGORIES:Event
ATTACH;FMTTYPE=image/png:https://northhaltonhospice.ca/wp-content/uploads/2024/11/Events-Callouts.png
END:VEVENT
BEGIN:VEVENT
DTSTART;TZID=America/Toronto:20241214T193000
DTEND;TZID=America/Toronto:20241214T223000
DTSTAMP:20260422T083356
CREATED:20240910T175859Z
LAST-MODIFIED:20240910T175859Z
UID:10000150-1734204600-1734215400@northhaltonhospice.ca
SUMMARY:Local Showcase Series - Fossil Rockers Christmas Benefit
DESCRIPTION:Saturday Dec 14th the Fossil Rockers are coming to town with their Christmas Concert in aid of Townsend Smith Foundation to help build a hospice in North Halton. Featuring a variety of new and old holiday songs performed by the group and a number of guest local performers\, the show will have something for everyone. Special guests will be the St John’s choir performing with the band and on their own. Sing along\, clap along and get in the holiday spirit just in time for the season and contribute to a great cause at the same time! \nBUY TICKETS
URL:https://northhaltonhospice.ca/event/local-showcase-series-fossil-rockers-christmas-benefit/
LOCATION:The Sanctuary Concert Hall\, 11 Guelph Street\, Halton Hills
CATEGORIES:Event
ATTACH;FMTTYPE=image/jpeg:https://northhaltonhospice.ca/wp-content/uploads/2024/09/Events-Callouts-1-2.jpg
END:VEVENT
BEGIN:VEVENT
DTSTART;TZID=America/Toronto:20241130T193000
DTEND;TZID=America/Toronto:20241130T223000
DTSTAMP:20260422T083356
CREATED:20240910T175452Z
LAST-MODIFIED:20240910T175452Z
UID:10000149-1732995000-1733005800@northhaltonhospice.ca
SUMMARY:Local Showcase Series - Adam James Sings Sinatra Christmas
DESCRIPTION:Adam James returns from L.A. to his hometown to bring the memorable Christmas songs\, and sound\, of Frank Sinatra to the TSCH stage. “I’ve seen many portray Sinatra on stage\, Adam’s the best.” – Quincy Jones. You won’t want to miss all the songs\, all the stories and all the fun when Adam takes the stage November 30th\, with portion of the proceeds from the concert in support of Townsend Smith Foundation. \nBUY TICKETS
URL:https://northhaltonhospice.ca/event/local-showcase-series-adam-james-sings-sinatra-christmas/
LOCATION:The Sanctuary Concert Hall\, 11 Guelph Street\, Halton Hills
CATEGORIES:Event
ATTACH;FMTTYPE=image/jpeg:https://northhaltonhospice.ca/wp-content/uploads/2024/09/Events-Callouts-2-1.jpg
END:VEVENT
BEGIN:VEVENT
DTSTART;TZID=America/Toronto:20241005T193000
DTEND;TZID=America/Toronto:20241005T223000
DTSTAMP:20260422T083356
CREATED:20240910T175001Z
LAST-MODIFIED:20240910T175123Z
UID:10000148-1728156600-1728167400@northhaltonhospice.ca
SUMMARY:Local Showcase Series - Fossil Rockers present "Troubadour"\, the music of James Taylor and Carole King
DESCRIPTION:In 1970 James Taylor and Carole King performed at the famed Troubadour Club in Hollywood. 40 years later the two decided to commemorate the occasion by doing the “Troubadour Tour” featuring the music of both artists and their collaborations. The result was a sold out world wide tour featuring two of the greatest songwriters of our time. \nJoin The Fossil Rockers as they recreate these songs in a 90 minute show to honour the work of these legendary performers\, with portion of the proceeds from the concert in support of Townsend Smith Foundation. \nBUY TICKETS
URL:https://northhaltonhospice.ca/event/local-showcase-series-fossil-rockers-present-troubadour-the-music-of-james-taylor-and-carole-king/
LOCATION:The Sanctuary Concert Hall\, 11 Guelph Street\, Halton Hills
CATEGORIES:Event
ATTACH;FMTTYPE=image/jpeg:https://northhaltonhospice.ca/wp-content/uploads/2024/09/Events-Callouts-3.jpg
END:VEVENT
END:VCALENDAR